BEGIN:VCALENDAR
VERSION:2.0
PRODID:-//weDialogue - ECPv6.15.20//NONSGML v1.0//EN
CALSCALE:GREGORIAN
METHOD:PUBLISH
X-ORIGINAL-URL:https://www.wedialogue.com
X-WR-CALDESC:Events for weDialogue
REFRESH-INTERVAL;VALUE=DURATION:PT1H
X-Robots-Tag:noindex
X-PUBLISHED-TTL:PT1H
BEGIN:VTIMEZONE
TZID:America/Los_Angeles
BEGIN:DAYLIGHT
TZOFFSETFROM:-0800
TZOFFSETTO:-0700
TZNAME:PDT
DTSTART:20160313T100000
END:DAYLIGHT
BEGIN:STANDARD
TZOFFSETFROM:-0700
TZOFFSETTO:-0800
TZNAME:PST
DTSTART:20161106T090000
END:STANDARD
BEGIN:DAYLIGHT
TZOFFSETFROM:-0800
TZOFFSETTO:-0700
TZNAME:PDT
DTSTART:20170312T100000
END:DAYLIGHT
BEGIN:STANDARD
TZOFFSETFROM:-0700
TZOFFSETTO:-0800
TZNAME:PST
DTSTART:20171105T090000
END:STANDARD
BEGIN:DAYLIGHT
TZOFFSETFROM:-0800
TZOFFSETTO:-0700
TZNAME:PDT
DTSTART:20180311T100000
END:DAYLIGHT
BEGIN:STANDARD
TZOFFSETFROM:-0700
TZOFFSETTO:-0800
TZNAME:PST
DTSTART:20181104T090000
END:STANDARD
END:VTIMEZONE
BEGIN:VEVENT
DTSTART;VALUE=DATE:20170612
DTEND;VALUE=DATE:20170725
DTSTAMP:20260424T045443
CREATED:20170313T184530Z
LAST-MODIFIED:20170313T185122Z
UID:1315-1497225600-1500940799@www.wedialogue.com
SUMMARY:Harvesting "Flex" Course
DESCRIPTION:AN ALWAYS “ON” ONLINE COURSE \nOffered by Beehive Productions. \nJune 12th – July 24th\nTwo “Real Time” Online Sessions: June 12th and July 24th\n10 – 11:30am Pacific Time\n(use a time zone converter for local time in your area) \nSuggested Fee: $450 / Team Rate (3 or more) 50% off\n(we practice alternative economy – see the registration form for options if money is an issue for you) \nWe are creating a new way for you to  learn and engage with Beehive Productions – “Flex Courses”. As part of our continuous efforts to make all the valuable material we are gathering through our regular courses available. This course draws on the very popular Harvesting and Collective Sense-Making course we offered last fall in nine sessions and make . \nREGISTER NOW \nFor More Information
URL:https://www.wedialogue.com/event/harvesting-flex-course/
LOCATION:CLUBHOUSE
CATEGORIES:Course
ATTACH;FMTTYPE=image/jpeg:https://www.wedialogue.com/wp-content/uploads/harvesting-onDemand.jpg
END:VEVENT
BEGIN:VEVENT
DTSTART;TZID=America/Los_Angeles:20170602T090000
DTEND;TZID=America/Los_Angeles:20170602T113000
DTSTAMP:20260424T045443
CREATED:20170201T214715Z
LAST-MODIFIED:20170801T220727Z
UID:217-1496394000-1496403000@www.wedialogue.com
SUMMARY:Activating Collective Wisdom: Five Essential Practices
DESCRIPTION:Online \nHosted in collaboration with Alan Briskin. \nSix two-and-a-half-hour sessions:\nEvery other Friday – June 2\, June 16\, June 30\, July 14\, July 28\, & August 4\n9 – 11:30am Pacific Time\n(use a time zone converter for local time in your area) \nSuggested Fee: $650 / Student Rate: $500 / Group Rate (4 or more) 50% off\n(we practice alternative economy – contact us for options if money is an issue for you) \nJoin us in a six-session immersive online experience as together we explore five essential practices that create the conditions to awaken\, cultivate and enliven our capacity for collective wisdom. \nREGISTER NOW \nFor More Information
URL:https://www.wedialogue.com/event/activating-collective-wisdom-five-essential-practices/
LOCATION:CLUBHOUSE
CATEGORIES:Workshop
ATTACH;FMTTYPE=image/jpeg:https://www.wedialogue.com/wp-content/uploads/2017/02/iconic-image-2-e1488212078733.jpg
END:VEVENT
BEGIN:VEVENT
DTSTART;TZID=America/Los_Angeles:20170528T100000
DTEND;TZID=America/Los_Angeles:20170528T120000
DTSTAMP:20260424T045443
CREATED:20170201T214311Z
LAST-MODIFIED:20170801T220550Z
UID:209-1495965600-1495972800@www.wedialogue.com
SUMMARY:Journeying with Earth Medicine: Thirteen Moons of Ceremony
DESCRIPTION:ONLINE \nHosted in collaboration with FireHawk Hulin\, with Pele Rouge Chadima. \nThirteen two-hour sessions\, every month on a Sunday near the full moon:\nMay 28\, June 18\, July 16\, August 20\, September 17\, October 22\, November 19\, December 17\, January 14\, February 18\, March 18\, April 15th\, & May 20th\n10am – 12pm Pacific Time\n(use a time zone converter for local time in your area) \nSuggested Fee: $650\n(we practice alternative economy – see registration options if money is an issue) \nDuring the course of thirteen moons\, we will journey together using a ceremonial format to explore thirteen different aspects of Earth Medicine. \nOur intention is to touch the wisdom of the earth – each of us\, from wherever we are each standing in our different traditions and skins\, in all the unique and related ways we experience the precious gifts that earth has for us. We aim to deepen the innate relationship with earth and the rest of the natural world we too are part of. \nREGISTER NOW \nFor More Information
URL:https://www.wedialogue.com/event/a-journey-with-earth-medicine/
LOCATION:CLUBHOUSE
CATEGORIES:Online Ceremony
ATTACH;FMTTYPE=image/jpeg:https://www.wedialogue.com/wp-content/uploads/2017/02/Moon-Stone-inside-e1488210857268.jpg
END:VEVENT
BEGIN:VEVENT
DTSTART;TZID=America/Los_Angeles:20170517T100000
DTEND;TZID=America/Los_Angeles:20170517T120000
DTSTAMP:20260424T045443
CREATED:20170201T214602Z
LAST-MODIFIED:20170304T013011Z
UID:215-1495015200-1495022400@www.wedialogue.com
SUMMARY:The Art of Invitation
DESCRIPTION:ONLINE \nA Beehive Productions event\, hosted in collaboration with Rowan Simonsen & Chris Corrigan with graphics by Viola Tschendel. \nThree two-hour sessions:\nWednesdays – May 17th\, 24th & 31st\n10am – 12pm Pacific Time\n(use a time zone converter for local time in your area) \nSuggested Fee: $300 / Group Rate (3 or more) 50% off\n(we practice alternative economy – see the registration form for options if money is an issue for you) \nThe purpose of this course is to explore and unpack what the art of invitation really means. Working with the practice of invitation as an action rather than something that happens BEFORE the action we will explore underlying principles and practices and look at how “embodying invitation” is one of the most important practices you can develop for doing any participatory strategic work successfully. \nREGISTER NOW \nFor More Information
URL:https://www.wedialogue.com/event/the-art-of-invitation/
LOCATION:CLUBHOUSE
CATEGORIES:Course
ATTACH;FMTTYPE=image/jpeg:https://www.wedialogue.com/wp-content/uploads/Art-of-Invitation.jpg
END:VEVENT
BEGIN:VEVENT
DTSTART;TZID=America/Los_Angeles:20170405T100000
DTEND;TZID=America/Los_Angeles:20170405T120000
DTSTAMP:20260424T045443
CREATED:20170201T214426Z
LAST-MODIFIED:20170303T031439Z
UID:211-1491386400-1491393600@www.wedialogue.com
SUMMARY:Deep Dive: The Circle Way
DESCRIPTION:Online \nA Beehive Productions event\, hosted in collaboration with Rowan Simonsen & Tenneson Woolf\, with Special Guest Christina Baldwin. \nFour two-hour sessions:\nWednesdays – April 5th\, 12th\, 19th & 26th\n10am – 12pm Pacific Time\n(use a time zone converter for local time in your area) \nSuggested Fee: $350 / Group Rate (3 or more) 50% off\n(we practice alternative economy – see the registration form for options if money is an issue for you) \nThe Circle Way is a body of work combining ancient lineage and modern social technology in a refined\, lightly structured group process designed by Christina Baldwin and Ann Linnea in 1992. The two founders taught\, applied\, and evolved this work in a 25-year writing and teaching cycle applied world-wide. \nThis course is for people who already have a basic understanding of the Circle Way and want to go deeper into the subtleties of hosting this methodology – the deeper meaning and purpose of the Circle Way\, and how it can be most effectively applied. \nREGISTER NOW \nFor More Information
URL:https://www.wedialogue.com/event/deep-dive-the-circle-way/
LOCATION:CLUBHOUSE
CATEGORIES:Course
ATTACH;FMTTYPE=image/jpeg:https://www.wedialogue.com/wp-content/uploads/2017/02/circle-banner-e1488212333796.jpg
END:VEVENT
END:VCALENDAR