BEGIN:VCALENDAR
VERSION:2.0
PRODID:-//weDialogue - ECPv6.15.20//NONSGML v1.0//EN
CALSCALE:GREGORIAN
METHOD:PUBLISH
X-WR-CALNAME:weDialogue
X-ORIGINAL-URL:https://www.wedialogue.com
X-WR-CALDESC:Events for weDialogue
REFRESH-INTERVAL;VALUE=DURATION:PT1H
X-Robots-Tag:noindex
X-PUBLISHED-TTL:PT1H
BEGIN:VTIMEZONE
TZID:America/Los_Angeles
BEGIN:DAYLIGHT
TZOFFSETFROM:-0800
TZOFFSETTO:-0700
TZNAME:PDT
DTSTART:20160313T100000
END:DAYLIGHT
BEGIN:STANDARD
TZOFFSETFROM:-0700
TZOFFSETTO:-0800
TZNAME:PST
DTSTART:20161106T090000
END:STANDARD
BEGIN:DAYLIGHT
TZOFFSETFROM:-0800
TZOFFSETTO:-0700
TZNAME:PDT
DTSTART:20170312T100000
END:DAYLIGHT
BEGIN:STANDARD
TZOFFSETFROM:-0700
TZOFFSETTO:-0800
TZNAME:PST
DTSTART:20171105T090000
END:STANDARD
BEGIN:DAYLIGHT
TZOFFSETFROM:-0800
TZOFFSETTO:-0700
TZNAME:PDT
DTSTART:20180311T100000
END:DAYLIGHT
BEGIN:STANDARD
TZOFFSETFROM:-0700
TZOFFSETTO:-0800
TZNAME:PST
DTSTART:20181104T090000
END:STANDARD
BEGIN:DAYLIGHT
TZOFFSETFROM:-0800
TZOFFSETTO:-0700
TZNAME:PDT
DTSTART:20190310T100000
END:DAYLIGHT
BEGIN:STANDARD
TZOFFSETFROM:-0700
TZOFFSETTO:-0800
TZNAME:PST
DTSTART:20191103T090000
END:STANDARD
BEGIN:DAYLIGHT
TZOFFSETFROM:-0800
TZOFFSETTO:-0700
TZNAME:PDT
DTSTART:20200308T100000
END:DAYLIGHT
BEGIN:STANDARD
TZOFFSETFROM:-0700
TZOFFSETTO:-0800
TZNAME:PST
DTSTART:20201101T090000
END:STANDARD
BEGIN:DAYLIGHT
TZOFFSETFROM:-0800
TZOFFSETTO:-0700
TZNAME:PDT
DTSTART:20210314T100000
END:DAYLIGHT
BEGIN:STANDARD
TZOFFSETFROM:-0700
TZOFFSETTO:-0800
TZNAME:PST
DTSTART:20211107T090000
END:STANDARD
END:VTIMEZONE
BEGIN:VTIMEZONE
TZID:Europe/Paris
BEGIN:DAYLIGHT
TZOFFSETFROM:+0100
TZOFFSETTO:+0200
TZNAME:CEST
DTSTART:20180325T010000
END:DAYLIGHT
BEGIN:STANDARD
TZOFFSETFROM:+0200
TZOFFSETTO:+0100
TZNAME:CET
DTSTART:20181028T010000
END:STANDARD
BEGIN:DAYLIGHT
TZOFFSETFROM:+0100
TZOFFSETTO:+0200
TZNAME:CEST
DTSTART:20190331T010000
END:DAYLIGHT
BEGIN:STANDARD
TZOFFSETFROM:+0200
TZOFFSETTO:+0100
TZNAME:CET
DTSTART:20191027T010000
END:STANDARD
BEGIN:DAYLIGHT
TZOFFSETFROM:+0100
TZOFFSETTO:+0200
TZNAME:CEST
DTSTART:20200329T010000
END:DAYLIGHT
BEGIN:STANDARD
TZOFFSETFROM:+0200
TZOFFSETTO:+0100
TZNAME:CET
DTSTART:20201025T010000
END:STANDARD
END:VTIMEZONE
BEGIN:VTIMEZONE
TZID:Europe/Helsinki
BEGIN:DAYLIGHT
TZOFFSETFROM:+0200
TZOFFSETTO:+0300
TZNAME:EEST
DTSTART:20180325T010000
END:DAYLIGHT
BEGIN:STANDARD
TZOFFSETFROM:+0300
TZOFFSETTO:+0200
TZNAME:EET
DTSTART:20181028T010000
END:STANDARD
BEGIN:DAYLIGHT
TZOFFSETFROM:+0200
TZOFFSETTO:+0300
TZNAME:EEST
DTSTART:20190331T010000
END:DAYLIGHT
BEGIN:STANDARD
TZOFFSETFROM:+0300
TZOFFSETTO:+0200
TZNAME:EET
DTSTART:20191027T010000
END:STANDARD
BEGIN:DAYLIGHT
TZOFFSETFROM:+0200
TZOFFSETTO:+0300
TZNAME:EEST
DTSTART:20200329T010000
END:DAYLIGHT
BEGIN:STANDARD
TZOFFSETFROM:+0300
TZOFFSETTO:+0200
TZNAME:EET
DTSTART:20201025T010000
END:STANDARD
END:VTIMEZONE
BEGIN:VEVENT
DTSTART;TZID=America/Los_Angeles:20200812T100000
DTEND;TZID=America/Los_Angeles:20200812T123000
DTSTAMP:20260423T024012
CREATED:20200803T222928Z
LAST-MODIFIED:20200803T222928Z
UID:2434-1597226400-1597235400@www.wedialogue.com
SUMMARY:August Community Cafe
DESCRIPTION:Wednesday\, August 12\, 2020\n10 am – 12.30 pm California | 1 pm – 3.30 pm Boston | 7 pm – 9.30 pm Paris\n(use a Time Zone Converter for local time in your area)\n \nThis online Community Cafe is part of an ongoing series hosted every month with and for the World Café community and the wider “central garden” of participatory practitioners.  \nThese Community Cafes offer us an opportunity to get to know one another\, learn from our diversity\, and weave the web of our international community.  \nFee by Donation: $5 – $30\n(Offered at no charge for Community Table Subscribers) \nBy Registration Only
URL:https://www.wedialogue.com/event/august-community-cafe/
LOCATION:CLUBHOUSE
CATEGORIES:World Cafe
ATTACH;FMTTYPE=image/jpeg:https://www.wedialogue.com/wp-content/uploads/community-cafe.jpg
ORGANIZER;CN="The World Cafe Community Foundation":MAILTO:amy@theworldcafe.com
END:VEVENT
BEGIN:VEVENT
DTSTART;TZID=America/Los_Angeles:20200615T100000
DTEND;TZID=America/Los_Angeles:20200619T123000
DTSTAMP:20260423T024012
CREATED:20200504T213642Z
LAST-MODIFIED:20200507T175920Z
UID:2376-1592215200-1592569800@www.wedialogue.com
SUMMARY:World Cafe Online
DESCRIPTION:WORLD CAFE ONLINE\nHosted by Amy Lenzo & Michaela Sieh \nThree Real-Time Online Sessions: \nMonday\, Wednesday & Friday\nJune 15th\, 17th & 19th\n10 – 12:30 Pacific Time / 7 – 9:30 CET  \nUnlock the secrets of hosting World Cafe online. \nJoin us for the first in a series of online learning intensives offered by the World Cafe Community Foundation. This series is designed to make the particular skills of hosting different participatory engagement processes online easily accessible & learnable. \nFor hosts with onsite experience in the modality presented and want to take their work online. \nWe start with World Cafe\, one of the most popular and versatile methodologies\, which has incidentally been hosted online successfully for over a decade.  \nIn three 2.5 hour real-time online sessions\, we will cover:   \n\nMonday\, June 15th: An Overview of Online Hosting\n\nThe basics of what you need to know about hosting online – what’s different and what’s the same.\n\n\n\nWednesday\, June 17th: World Cafe Online – Process Hosting\n\nExperience how to host the intimacy and scale that characterizes World Cafe\, in an online environment.\n\n\n\nFriday\, June 19th: World Cafe Online – Tech Hosting\n\nLearn the specific skills of what happens “behind the scenes” to support a seamless World Cafe experience for participants.\n\n\n\nREGISTER NOW \nOnly $200 US\n30% off for groups of 3 or more\n(contact us with your group names & email addresses \nfor the discount code)
URL:https://www.wedialogue.com/event/world-cafe-online/
LOCATION:CLUBHOUSE
CATEGORIES:Course,Training,World Cafe
ATTACH;FMTTYPE=image/jpeg:https://www.wedialogue.com/wp-content/uploads/ripples.jpg
ORGANIZER;CN="The World Cafe Community Foundation":MAILTO:amy@theworldcafe.com
END:VEVENT
BEGIN:VEVENT
DTSTART;TZID=America/Los_Angeles:20200312T100000
DTEND;TZID=America/Los_Angeles:20200312T123000
DTSTAMP:20260423T024012
CREATED:20200306T211502Z
LAST-MODIFIED:20200306T211503Z
UID:2349-1584007200-1584016200@www.wedialogue.com
SUMMARY:March Community World Café
DESCRIPTION:Thursday\, March 12\, 2020\n10 am – 12.30 pm California | 1 pm – 3.30 pm Boston | 7 pm – 9.30 pm Paris\n(use a Time Zone Converter for local time in your area)\n \nThis online Community Cafe is part of an ongoing series hosted every month with and for the World Café community and the wider “central garden” of participatory practitioners.  \nThese Community Cafes offer us an opportunity to get to know one another\, learn from our diversity\, and weave the web of our international community.  \nFee by Donation: $5 – $30\n(Offered at no charge for Community Table Subscribers) \nBy Registration Only
URL:https://www.wedialogue.com/event/march-community-world-cafe/
LOCATION:CLUBHOUSE
CATEGORIES:World Cafe
ATTACH;FMTTYPE=image/png:https://www.wedialogue.com/wp-content/uploads/Square_table-red.png
ORGANIZER;CN="The World Cafe Community Foundation":MAILTO:amy@theworldcafe.com
END:VEVENT
BEGIN:VEVENT
DTSTART;TZID=America/Los_Angeles:20200221T100000
DTEND;TZID=America/Los_Angeles:20200221T123000
DTSTAMP:20260423T024012
CREATED:20200127T005639Z
LAST-MODIFIED:20200129T011840Z
UID:2324-1582279200-1582288200@www.wedialogue.com
SUMMARY:Neurodiversity in the Workplace: Is it the Next Frontier in Diversity?
DESCRIPTION:A World Cafe Live! event\, sponsored by the NeuroLeadership Institute (NLI) and The World Café Community Foundation. \nJoin us for this interactive World Café featuring Khalil Smith\, VP of Consulting\, NLI\, interviewed by Tracey France\, EEO & Diversity Manager for the Department of Labor\, Office of Inspector General (OIG). \nFriday\, February 21st\n10:00 am – 12:30 pm Pacific Time / 1:00 – 3:30pm Eastern Time / 19:00 – 21:30 Central European Time \nBy Donation $5 – $30\nFree to Community Table Subscribers\n \nHosted by Amy Lenzo & Michaela Sieh \nFor More Information & Registration
URL:https://www.wedialogue.com/event/neurodiversity-in-the-workplace-is-it-the-next-frontier-in-diversity/
LOCATION:CLUBHOUSE
CATEGORIES:World Cafe
ATTACH;FMTTYPE=image/jpeg:https://www.wedialogue.com/wp-content/uploads/Neurobiology1.jpg
ORGANIZER;CN="The World Cafe Community Foundation":MAILTO:amy@theworldcafe.com
END:VEVENT
BEGIN:VEVENT
DTSTART;TZID=America/Los_Angeles:20200213T100000
DTEND;TZID=America/Los_Angeles:20200213T120000
DTSTAMP:20260423T024012
CREATED:20191206T221309Z
LAST-MODIFIED:20200111T200651Z
UID:2275-1581588000-1581595200@www.wedialogue.com
SUMMARY:Hosting and Facilitating: Similarities\, Differences and Applications
DESCRIPTION:A World Cafe Signature Learning Program Module\nwith Frances Baldwin & Amy Lenzo \nONLINE\nThursday\, February 13th\, 2019\n10am – 12pm Pacific Time / 3 – 5 Eastern Time / 19:00 – 21:00 Central European Time \n30% Off for Beehive Productions & Community Table Subscribers\n(contact us for promo codes) \nFor More Information & Registration \n 
URL:https://www.wedialogue.com/event/hosting-and-facilitating-similarities-differences-and-applications/
LOCATION:CLUBHOUSE
CATEGORIES:Workshop,World Cafe
ATTACH;FMTTYPE=image/jpeg:https://www.wedialogue.com/wp-content/uploads/fieldingcourse.jpg
ORGANIZER;CN="The World Cafe Community Foundation":MAILTO:amy@theworldcafe.com
END:VEVENT
BEGIN:VEVENT
DTSTART;TZID=America/Los_Angeles:20200210T100000
DTEND;TZID=America/Los_Angeles:20200210T123000
DTSTAMP:20260423T024012
CREATED:20181220T205243Z
LAST-MODIFIED:20200111T214532Z
UID:2191-1581328800-1581337800@www.wedialogue.com
SUMMARY:Monthly Online Community World Cafe
DESCRIPTION:Regular monthly World Cafes for the World Cafe community and friends. You are welcome to join us – come experience the extraordinary experience of an online World Cafe for yourself. \nHosted by Amy Lenzo\, Michaela Sieh\, and Apprentice World Cafe hosts. \nThese World Cafe Community Cafes are free of charge & produced entirely on a volunteer basis. Your financial contributions are warmly invited. \nAll Community World Cafes are 2.5 hours\, from 10am – 12:30pm Pacific Time | 19:00 – 21:30 Central European Time\n(Use a Time Zone Converter to find the local time in your area.) \nFebruary 10th – REGISTER NOW \n 
URL:https://www.wedialogue.com/event/january-community-world-cafe-2019-12-11/
LOCATION:CLUBHOUSE
CATEGORIES:World Cafe
ATTACH;FMTTYPE=image/jpeg:https://www.wedialogue.com/wp-content/uploads/sparkler.jpg
ORGANIZER;CN="The World Cafe Community Foundation":MAILTO:amy@theworldcafe.com
END:VEVENT
BEGIN:VEVENT
DTSTART;TZID=America/Los_Angeles:20190908T090000
DTEND;TZID=America/Los_Angeles:20190908T230000
DTSTAMP:20260423T024012
CREATED:20170801T220029Z
LAST-MODIFIED:20191001T004407Z
UID:1621-1567933200-1567983600@www.wedialogue.com
SUMMARY:World Cafe Hosting Fundamentals
DESCRIPTION:This rigorous\, highly interactive 8-week online course is designed for serious practitioners who are looking for a solid understanding of the World Café method and philosophy\, and want to work with their peers\, guided by senior practitioners to learn how to host powerful and effective World Cafés. \nRegular “real time” Study Groups and assignments using state-of-the-art distance learning forums in the World Cafe format. \nSaturday\, September 14th – Opening Session –  9 – 11am Pacific Time\nWednesday\, October 9th – Online World Cafe – 10 – 12:30am Pacific Time\nSaturdays\, September 21st\, October 5th\, 12th\, 19th\, & 26th – Real-Time Study Groups – 10 – 11:30am Pacific Time\nSaturday\, November 2nd  – Closing Session 9 – 11am Pacific Time \nCourse fee includes required reading materials in e-format: The World Café: Shaping Our Futures Through Conversations That Matter\, The World Cafe: Living Knowledge Through Conversations That Matter\, and The Art of Powerful Questions. \nA Signature World Cafe Learning Program\nOffered in partnership with the Institute for Social Innovation at Fielding Graduate University \nInstructor: Director of World Cafe Signature Learning Programs\, Adjunct Faculty member at Fielding Graduate Institute\, and Senior World Cafe host\, Amy Lenzo \nCosts:\n$800/$750 EARLY BIRD (ends Aug 19th)\n$650 / $600 Fielding Alumni \nRegistration closes September 3rd\n(a $50 administrative late fee will be charged for registrations accepted after this date) \n \nMore Information & Link to Register
URL:https://www.wedialogue.com/event/world-cafe-hosting-fundamentals/
LOCATION:CLUBHOUSE
CATEGORIES:Training,World Cafe
ATTACH;FMTTYPE=image/jpeg:https://www.wedialogue.com/wp-content/uploads/fieldingcourse.jpg
ORGANIZER;CN="The World Cafe Community Foundation":MAILTO:amy@theworldcafe.com
END:VEVENT
BEGIN:VEVENT
DTSTART;TZID=America/Los_Angeles:20190717T100000
DTEND;TZID=America/Los_Angeles:20190717T123000
DTSTAMP:20260423T024012
CREATED:20181220T205243Z
LAST-MODIFIED:20190805T234422Z
UID:2018-1563357600-1563366600@www.wedialogue.com
SUMMARY:Monthly Online Community World Cafe
DESCRIPTION:Regular monthly World Cafes for the World Cafe community and friends. You are welcome to join us – come experience an online World Cafe for yourself. \nThese World Cafe Community Cafes are free of charge & produced entirely on a volunteer basis. Your financial contributions are warmly invited. \nThe next one is August 14th. \nREGISTER FOR IT NOW
URL:https://www.wedialogue.com/event/january-community-world-cafe/
LOCATION:CLUBHOUSE
CATEGORIES:World Cafe
ATTACH;FMTTYPE=image/jpeg:https://www.wedialogue.com/wp-content/uploads/sparkler.jpg
ORGANIZER;CN="The World Cafe Community Foundation":MAILTO:amy@theworldcafe.com
END:VEVENT
BEGIN:VEVENT
DTSTART;TZID=Europe/Paris:20190713T100000
DTEND;TZID=Europe/Paris:20190715T160000
DTSTAMP:20260423T024012
CREATED:20190613T134052Z
LAST-MODIFIED:20190613T140651Z
UID:2151-1563012000-1563206400@www.wedialogue.com
SUMMARY:Engaging the Magic in the Middle
DESCRIPTION:What does it take to create the space during a World Cafe in which the “Magic in the Middle” (as World Cafe pioneer Finn Voldtofte called it) can show up? \nIn this Learning Retreat\, using music\, arts and multi-generational engagement\, we will go back to the roots of the World Cafe design principles – and beyond – to see what we can find out…  \nWhen:\nSaturday\, July 14: 10 am – 9 pm\nSunday\, July 15: 10 am – 9 pm\nMonday\, July 16: 10 am – 4 pm \nWhere:\nWe will gather at the Baarbeekhoeve – a beautiful organic farm in the Belgian countryside with an amazing newly built meeting space. Easily reachable by public transport (6 min by train from Mechelen to Muizen; 35 min by train from Brussels) or by car. \nWe’ll enjoy organic meals\, literally “from farm to table”. Drinks and snacks during breaks\, lunch and dinner are all included in your participation fee.
URL:https://www.wedialogue.com/event/engaging-the-magic-in-the-middle/
LOCATION:Belgium\, Belgium
CATEGORIES:Wiser Together Cafe,Workshop,World Cafe
ATTACH;FMTTYPE=image/jpeg:https://www.wedialogue.com/wp-content/uploads/Magic-in-the-Middle-web-banner.jpg
ORGANIZER;CN="The World Cafe Community Foundation":MAILTO:amy@theworldcafe.com
END:VEVENT
BEGIN:VEVENT
DTSTART;TZID=Europe/Helsinki:20190616T180000
DTEND;TZID=Europe/Helsinki:20190616T203000
DTSTAMP:20260423T024012
CREATED:20190613T131448Z
LAST-MODIFIED:20190613T140843Z
UID:2139-1560708000-1560717000@www.wedialogue.com
SUMMARY:World Cafe Book Translation Celebration
DESCRIPTION:The World Café Hellas Group has been practicing and translating The World Café book\, recognizing that through Collaborative Leadership\, we can bring generative change to how our companies\, organisations\, schools\, etc. A community of practice is emerging\, calling in new practices that shift leadership from the individual or hero to the collective. \nJoin us for a FREE World Cafe to celebrate our achievement and learn more about how to support the book and World Cafe practice in Greece. \nLet us know if you are planning to join us & we’ll give you details about the venue and anything else you need to know.
URL:https://www.wedialogue.com/event/world-cafe-book-translation-celebration/
LOCATION:Athens\, Greece
CATEGORIES:World Cafe
ATTACH;FMTTYPE=image/png:https://www.wedialogue.com/wp-content/uploads/Screen-Shot-2019-06-13-at-4.31.37-PM.png
END:VEVENT
BEGIN:VEVENT
DTSTART;TZID=Europe/Helsinki:20190615T100000
DTEND;TZID=Europe/Helsinki:20190616T173000
DTSTAMP:20260423T024012
CREATED:20190613T125627Z
LAST-MODIFIED:20190613T140953Z
UID:2129-1560592800-1560706200@www.wedialogue.com
SUMMARY:The World Cafe Training in Athens
DESCRIPTION:How can The World Café change my personal practice\, organization or community? \nIn Greece\, Art of Hosting Athina has been offering the Art of Participatory Leadership Trainings for the past eight years\, bringing a new form of leadership where collaboration and participation open new possibilities. \nAoHAthina\, in partnership with Amy Lenzo and The World Café are bringing this two-day training to Greece so that people can learn how this simple yet powerful approach can bring change to personal practice\, organisations and communities. We invite\, teachers\, managers\, social entrepreneurs\, people working in companies\, civil society organisations\, civil servants\, students\, etc. to join us in this participative and experiential training. The training aims at providing you with the foundational aspects so that you can apply the World Café in different contexts and for different purposes. \nSaturday\, June 15th from 10am to 6pm\nSunday\, 16 June 2019 from 10am – 5:30pm \nCoffee\, Tea\, and Refreshments Included\n(You will be responsible for your own lunch) \nTO REGISTER 
URL:https://www.wedialogue.com/event/the-world-cafe-training-in-athens/
LOCATION:Athens\, Greece
CATEGORIES:Training,Workshop,World Cafe
ATTACH;FMTTYPE=image/png:https://www.wedialogue.com/wp-content/uploads/Screen-Shot-2019-06-13-at-4.31.37-PM.png
ORGANIZER;CN="The World Cafe Community Foundation":MAILTO:amy@theworldcafe.com
END:VEVENT
BEGIN:VEVENT
DTSTART;TZID=America/Los_Angeles:20181220T100000
DTEND;TZID=America/Los_Angeles:20181220T123000
DTSTAMP:20260423T024012
CREATED:20181205T224417Z
LAST-MODIFIED:20181205T224417Z
UID:2004-1545300000-1545309000@www.wedialogue.com
SUMMARY:December Community World Cafe
DESCRIPTION:Regular monthly World Cafes for the World Cafe community and friends. You are welcome to join us. Come experience World Cafe in an online environment for yourself. \nThese World Cafe Community Cafes are free of charge & produced entirely on a volunteer basis. Your financial contributions are warmly invited. \nREGISTER NOW
URL:https://www.wedialogue.com/event/december-community-world-cafe/
LOCATION:CLUBHOUSE
CATEGORIES:World Cafe
ATTACH;FMTTYPE=image/jpeg:https://www.wedialogue.com/wp-content/uploads/sparkler.jpg
ORGANIZER;CN="The World Cafe Community Foundation":MAILTO:amy@theworldcafe.com
END:VEVENT
BEGIN:VEVENT
DTSTART;TZID=America/Los_Angeles:20181114T100000
DTEND;TZID=America/Los_Angeles:20181114T123000
DTSTAMP:20260423T024012
CREATED:20181010T194230Z
LAST-MODIFIED:20181015T221019Z
UID:1986-1542189600-1542198600@www.wedialogue.com
SUMMARY:November Community World Cafe
DESCRIPTION:Regular monthly World Cafes for the World Cafe community and friends. You are welcome to join us. Come experience World Cafe in an online environment for yourself. \nThese World Cafe Community Cafes are free of charge & produced entirely on a volunteer basis. Your financial contributions are warmly invited. \nREGISTER NOW \n 
URL:https://www.wedialogue.com/event/november-community-world-cafe/
LOCATION:CLUBHOUSE
CATEGORIES:World Cafe
ATTACH;FMTTYPE=image/jpeg:https://www.wedialogue.com/wp-content/uploads/sparkler.jpg
ORGANIZER;CN="The World Cafe Community Foundation":MAILTO:amy@theworldcafe.com
END:VEVENT
BEGIN:VEVENT
DTSTART;TZID=America/Los_Angeles:20181010T100000
DTEND;TZID=America/Los_Angeles:20181010T123000
DTSTAMP:20260423T024012
CREATED:20180903T205620Z
LAST-MODIFIED:20180903T205620Z
UID:1963-1539165600-1539174600@www.wedialogue.com
SUMMARY:October Community World Cafe
DESCRIPTION:Regular monthly World Cafes for the World Cafe community and friends. You are welcome to join us. \nThese World Cafe Community Cafes are free of charge & produced entirely on a volunteer basis. Your financial contributions are warmly invited. \n REGISTER NOW
URL:https://www.wedialogue.com/event/october-community-world-cafe/
LOCATION:CLUBHOUSE
CATEGORIES:World Cafe
ATTACH;FMTTYPE=image/jpeg:https://www.wedialogue.com/wp-content/uploads/sparkler.jpg
ORGANIZER;CN="The World Cafe Community Foundation":MAILTO:amy@theworldcafe.com
END:VEVENT
BEGIN:VEVENT
DTSTART;TZID=America/Los_Angeles:20181008T100000
DTEND;TZID=America/Los_Angeles:20181008T120000
DTSTAMP:20260423T024012
CREATED:20181002T010050Z
LAST-MODIFIED:20181002T011409Z
UID:1978-1538992800-1539000000@www.wedialogue.com
SUMMARY:Founding Stories with Juanita Brown and Toke Moeller
DESCRIPTION:The first in a new series by Beehive Productions – Founding Stories \nJuanita Brown\, co-founder of the World Cafe\, and Toke Møeller\, co-founder of the Art of Hosting\, each have a remarkable story to tell – but the story they tell together about how these sister communities started and evolved is even more compelling. \nMore Information & Registration
URL:https://www.wedialogue.com/event/founding-stories-with-juanita-brown-and-toke-moeller/
LOCATION:CLUBHOUSE
CATEGORIES:Conversation,World Cafe
ATTACH;FMTTYPE=image/jpeg:https://www.wedialogue.com/wp-content/uploads/Toke-Juanita.jpg
END:VEVENT
BEGIN:VEVENT
DTSTART;TZID=America/Los_Angeles:20180814T100000
DTEND;TZID=America/Los_Angeles:20180814T120000
DTSTAMP:20260423T024012
CREATED:20180307T004026Z
LAST-MODIFIED:20180714T154910Z
UID:1841-1534240800-1534248000@www.wedialogue.com
SUMMARY:August Community World Cafe
DESCRIPTION:Regular monthly World Cafes for the World Cafe community and friends. You are welcome to join us. \nThese World Cafe Community Cafes are free of charge & produced entirely on a volunteer basis. Your financial contributions are warmly invited \nREGISTER NOW
URL:https://www.wedialogue.com/event/june-community-world-cafe/
LOCATION:CLUBHOUSE
CATEGORIES:World Cafe
ATTACH;FMTTYPE=image/jpeg:https://www.wedialogue.com/wp-content/uploads/sparkler.jpg
ORGANIZER;CN="The World Cafe Community Foundation":MAILTO:amy@theworldcafe.com
END:VEVENT
BEGIN:VEVENT
DTSTART;TZID=America/Los_Angeles:20180508T100000
DTEND;TZID=America/Los_Angeles:20180508T120000
DTSTAMP:20260423T024012
CREATED:20180307T003700Z
LAST-MODIFIED:20180307T003726Z
UID:1839-1525773600-1525780800@www.wedialogue.com
SUMMARY:May Community World Cafe
DESCRIPTION:Regular monthly World Cafes for the World Cafe community and friends. You are welcome to join us. \nThese World Cafe Community Cafes are free of charge & produced entirely on a volunteer basis. Your financial contributions are warmly invited. \nREGISTER NOW
URL:https://www.wedialogue.com/event/may-community-world-cafe/
LOCATION:CLUBHOUSE
CATEGORIES:World Cafe
ATTACH;FMTTYPE=image/jpeg:https://www.wedialogue.com/wp-content/uploads/sparkler.jpg
ORGANIZER;CN="The World Cafe Community Foundation":MAILTO:amy@theworldcafe.com
END:VEVENT
BEGIN:VEVENT
DTSTART;TZID=America/Los_Angeles:20180411T100000
DTEND;TZID=America/Los_Angeles:20180411T120000
DTSTAMP:20260423T024012
CREATED:20180307T002723Z
LAST-MODIFIED:20180307T003246Z
UID:1832-1523440800-1523448000@www.wedialogue.com
SUMMARY:April Community World Cafe
DESCRIPTION:Regular monthly World Cafes for the World Cafe community and friends. You are welcome to join us. \nThese Community World Cafes are free of charge & produced entirely on a volunteer basis. Your contributions are warmly invited. \nREGISTER NOW \n 
URL:https://www.wedialogue.com/event/april-community-world-cafe/
LOCATION:CLUBHOUSE
CATEGORIES:World Cafe
ATTACH;FMTTYPE=image/jpeg:https://www.wedialogue.com/wp-content/uploads/sparkler.jpg
ORGANIZER;CN="The World Cafe Community Foundation":MAILTO:amy@theworldcafe.com
END:VEVENT
BEGIN:VEVENT
DTSTART;TZID=America/Los_Angeles:20171202T093000
DTEND;TZID=America/Los_Angeles:20171202T120000
DTSTAMP:20260423T024012
CREATED:20171112T212930Z
LAST-MODIFIED:20171112T213419Z
UID:1717-1512207000-1512216000@www.wedialogue.com
SUMMARY:Hybrid World Cafe on the Central Garden
DESCRIPTION:The Central Garden of Collaborative Change Practice:\nAccessing Our Collective Intelligence\nThe Central Garden metaphor\, coined by World Cafe Co-Founder Juanita Brown\, identifies a NEXUS for change; communities and networks engaging in many processes and practices of Collaborative Change as featured in The Change Handbook. \nJoin us as we learn about and experience – both locally (onsite at BGSU @Levis Commons) and globally (via Zoom video conferencing) – a Hybrid World Cafe conversation exploring the Central Garden – the “community of communities” through which we can access our collective intelligence and together investigate our learning edges. \nThis two and half hour hybrid event will model a method and a variety of technologies to explore what is possible now that was not possible before. \nREGISTER FOR ONLINE\nREGISTER FOR ONSITE (in Perrysburg\, Ohio) \nHosts: Amy Lenzo from weDialogue & Steve Cady from Nexus4Change \nConversation Starters: David Isaacs\, The World Cafe Community Foundation; Frances Baldwin\, DesignedWisdom; & and Steve Piersanti\, Berrett-Koehler Publishers.
URL:https://www.wedialogue.com/event/hybrid-world-cafe-on-the-central-garden/
LOCATION:CLUBHOUSE
CATEGORIES:World Cafe
ATTACH;FMTTYPE=image/jpeg:https://www.wedialogue.com/wp-content/uploads/central-garden.jpg
ORGANIZER;CN="The World Cafe Community Foundation":MAILTO:amy@theworldcafe.com
END:VEVENT
BEGIN:VEVENT
DTSTART;TZID=America/Los_Angeles:20171023T090000
DTEND;TZID=America/Los_Angeles:20171023T110000
DTSTAMP:20260423T024012
CREATED:20170802T224535Z
LAST-MODIFIED:20170802T224858Z
UID:1638-1508749200-1508756400@www.wedialogue.com
SUMMARY:World Café: la magia de la conversación
DESCRIPTION:Principios & Prácticas de la Inteligencia Colectiva \nYa sea que formemos parte de una empresa\, organización\, o comunidad\, saber conversar acerca de los temas que nos importan es esencial\, ¿Cuáles son las condiciones para que podamos hacerlo bien? \nEste curso on-line te propone aprender los principios que subyacen en toda conversación significativa\, y tener la habilidad de facilitar una de las metodologías de diálogo más potentes -el World Café- para que las personas podamos generar Inteligencia Colectiva al explorar los desafíos. \nComienza el próximo 23 de Octubre \nFechas:\nSesión 1: 23 de Octubre\nSesión 2: 30 de Octubre\nSesión 3: 6 de Noviembre\nSesión 4: 13 de Noviembre \nHora:\nCentroamérica: de 10am a 12pm\nMéxico / Colombia / Perú / Ecuador: de 11am a 1pm\nChile / Bolivia / Venezuela: de 12pm a 2pm\nArgentina / Uruguay / Brasil: de 1pm a 3pm\nEspaña 6pm – 8pm \nMás información \nINSCRIBETE AHORA! \nConsultas: hola@beehive-productions.net \nAnfitrionado por: Martín Castro\, Rowan Simonsen y Amy Lenzo y con Juanita Brown como invitada especial.
URL:https://www.wedialogue.com/event/world-cafe-la-magia-de-la-conversacion/
LOCATION:CLUBHOUSE
CATEGORIES:Training,World Cafe
ATTACH;FMTTYPE=image/png:https://www.wedialogue.com/wp-content/uploads/spanishWC-course-wDimage.png
END:VEVENT
BEGIN:VEVENT
DTSTART;TZID=America/Los_Angeles:20170819T180000
DTEND;TZID=America/Los_Angeles:20170819T210000
DTSTAMP:20260423T024012
CREATED:20170802T193852Z
LAST-MODIFIED:20170802T193852Z
UID:1635-1503165600-1503176400@www.wedialogue.com
SUMMARY:Hybrid World Cafe at IAF Asia Conference
DESCRIPTION:Three experienced facilitators – Masato Tahara\, Amy Lenzo & Kazuaki Katori – will co-host this hybrid session at the 2017 IAF Asia Conference in Seoul about online hosting\, using leading edge technology to connect participants in conversation both online and onsite at the conference in Seoul. \n10:00am – 13:00 pm on Aug. 20th Korea time\n10:00am – 13:00 pm on Aug. 20th Japan time\n18:00pm – 21:00 pm on Aug. 19th Pacific time \nONLINE PARTICIPATION IS FREE BUT YOU MUST REGISTER \nREGISTER NOW
URL:https://www.wedialogue.com/event/hybrid-world-cafe-at-iaf-asia-conference/
LOCATION:CLUBHOUSE
CATEGORIES:World Cafe
ATTACH;FMTTYPE=image/png:https://www.wedialogue.com/wp-content/uploads/Mind-blowing.png
END:VEVENT
END:VCALENDAR