BEGIN:VCALENDAR
VERSION:2.0
PRODID:-//weDialogue - ECPv6.15.20//NONSGML v1.0//EN
CALSCALE:GREGORIAN
METHOD:PUBLISH
X-ORIGINAL-URL:https://www.wedialogue.com
X-WR-CALDESC:Events for weDialogue
REFRESH-INTERVAL;VALUE=DURATION:PT1H
X-Robots-Tag:noindex
X-PUBLISHED-TTL:PT1H
BEGIN:VTIMEZONE
TZID:America/Los_Angeles
BEGIN:DAYLIGHT
TZOFFSETFROM:-0800
TZOFFSETTO:-0700
TZNAME:PDT
DTSTART:20210314T100000
END:DAYLIGHT
BEGIN:STANDARD
TZOFFSETFROM:-0700
TZOFFSETTO:-0800
TZNAME:PST
DTSTART:20211107T090000
END:STANDARD
BEGIN:DAYLIGHT
TZOFFSETFROM:-0800
TZOFFSETTO:-0700
TZNAME:PDT
DTSTART:20220313T100000
END:DAYLIGHT
BEGIN:STANDARD
TZOFFSETFROM:-0700
TZOFFSETTO:-0800
TZNAME:PST
DTSTART:20221106T090000
END:STANDARD
BEGIN:DAYLIGHT
TZOFFSETFROM:-0800
TZOFFSETTO:-0700
TZNAME:PDT
DTSTART:20230312T100000
END:DAYLIGHT
BEGIN:STANDARD
TZOFFSETFROM:-0700
TZOFFSETTO:-0800
TZNAME:PST
DTSTART:20231105T090000
END:STANDARD
END:VTIMEZONE
BEGIN:VTIMEZONE
TZID:America/Los_Angeles
BEGIN:DAYLIGHT
TZOFFSETFROM:-0800
TZOFFSETTO:-0700
TZNAME:PDT
DTSTART:20190310T100000
END:DAYLIGHT
BEGIN:STANDARD
TZOFFSETFROM:-0700
TZOFFSETTO:-0800
TZNAME:PST
DTSTART:20191103T090000
END:STANDARD
BEGIN:DAYLIGHT
TZOFFSETFROM:-0800
TZOFFSETTO:-0700
TZNAME:PDT
DTSTART:20200308T100000
END:DAYLIGHT
BEGIN:STANDARD
TZOFFSETFROM:-0700
TZOFFSETTO:-0800
TZNAME:PST
DTSTART:20201101T090000
END:STANDARD
BEGIN:DAYLIGHT
TZOFFSETFROM:-0800
TZOFFSETTO:-0700
TZNAME:PDT
DTSTART:20210314T100000
END:DAYLIGHT
BEGIN:STANDARD
TZOFFSETFROM:-0700
TZOFFSETTO:-0800
TZNAME:PST
DTSTART:20211107T090000
END:STANDARD
BEGIN:DAYLIGHT
TZOFFSETFROM:-0800
TZOFFSETTO:-0700
TZNAME:PDT
DTSTART:20220313T100000
END:DAYLIGHT
BEGIN:STANDARD
TZOFFSETFROM:-0700
TZOFFSETTO:-0800
TZNAME:PST
DTSTART:20221106T090000
END:STANDARD
END:VTIMEZONE
BEGIN:VEVENT
DTSTART;TZID=America/Los_Angeles:20220921T100000
DTEND;TZID=America/Los_Angeles:20220921T123000
DTSTAMP:20260422T205939
CREATED:20220804T223037Z
LAST-MODIFIED:20220804T223037Z
UID:2829-1663754400-1663763400@www.wedialogue.com
SUMMARY:Awakening Collaborative Wisdom
DESCRIPTION:Wednesday\, August 21st\, 2022\n10 – 12:30 Pacific Time | 1 – 3:30 Eastern Time | 7 – 9:30 Central European Time\nONLINE\nJoin the next gathering of our growing global community of practice and engage in an inquiry free from any agenda other than birthing emergent Awareness. Through a series of small group conversations\, grounded in authenticity\, shared learning\, and heart\, you will witness wisdom revealing itself through (and to) all\, ultimately showering the garden of life. \nBring your curiosity\, playfulness\, and receptivity to a field where people can share from the heart. Please consider inviting a friend to our awakening and emerging inquiry. \nYour hosts – David Isaacs\, Carol Gorelick\, Bruce Noll\, Greta Anderson\, Gordon Brode\, Andrew Mackenzie\, and the team from the World Café Community Foundation Amy Lenzo\, Michaela Sieh\, and Viola Clark –  look forward to welcoming you. \nThis conversation is one in an ongoing program of gatherings – You’re invited to be part of this exploration into our collective capacity to awaken collaborative wisdom at deeper and deeper levels. \nREGISTER NOW!\n(sliding scale to everyone – free for Community Table Subscribers – see the Community Table Calendar for the code)
URL:https://www.wedialogue.com/event/awakening-collaborative-wisdom/
LOCATION:ONLINE
CATEGORIES:World Cafe Live!
ATTACH;FMTTYPE=image/jpeg:https://www.wedialogue.com/wp-content/uploads/cracking-open.jpg
ORGANIZER;CN="The World Cafe Community Foundation":MAILTO:amy@theworldcafe.com
END:VEVENT
BEGIN:VEVENT
DTSTART;TZID=America/Los_Angeles:20220317T100000
DTEND;TZID=America/Los_Angeles:20220317T123000
DTSTAMP:20260422T205939
CREATED:20220309T194318Z
LAST-MODIFIED:20220309T195341Z
UID:2761-1647511200-1647520200@www.wedialogue.com
SUMMARY:Witnessing Trauma: Hosting Each Other and Ourselves
DESCRIPTION:A World Cafe Live!\nWitnessing Trauma: Hosting Each Other and Ourselves\nThursday March 17th\, 2022\n10am – 12:30pm Pacific Time | 1 – 3:30 pm Eastern Time\n18:00 – 20:30 Central European Time\nNOTE THAT DAYLIGHT SAVINGS TIME HAS GONE INTO EFFECT IN THE US\nCHECK A TIME ZONE CONVERTER FOR LOCAL TIMES\n\nONLINE \nSliding Scale\nFree for Community Table subscribers\n(see Community Table calendar for details) \n.o0o. \nJoin hosts Ian Andersen\, Michaela Sieh\, and Amy Lenzo in sharing your experiences\, perspectives\, and insights about what it means to witness trauma – in ourselves\, in others\, in the field – and host ourselves and each other as we do so. \nHosted by the World Cafe Community Foundation\, this is a World Cafe Live! event featuring practitioners within the international community of World Cafe and other participatory practices. We come together to share our passions\, inspire and inform each other\, and explore – in community. \nREGISTER NOW
URL:https://www.wedialogue.com/event/march-world-cafe-live/
LOCATION:ONLINE
CATEGORIES:World Cafe Live!
ATTACH;FMTTYPE=image/jpeg:https://www.wedialogue.com/wp-content/uploads/Wounded.jpg
ORGANIZER;CN="The World Cafe Community Foundation":MAILTO:amy@theworldcafe.com
END:VEVENT
BEGIN:VEVENT
DTSTART;TZID=America/Los_Angeles:20220224T100000
DTEND;TZID=America/Los_Angeles:20220224T123000
DTSTAMP:20260422T205939
CREATED:20220115T223339Z
LAST-MODIFIED:20220115T223339Z
UID:2745-1645696800-1645705800@www.wedialogue.com
SUMMARY:World Cafe Live! Story: The Secret Sauce of Extraordinary Hosting
DESCRIPTION:A World Cafe Live!\nFebruary 24th\, 2022\n10am – 12:30pm Pacific Time | 1 – 3:30 pm Eastern Time\n19:00 – 21:30 Central European Time\nONLINE \nSliding Scale\nFree for Community Table subscribers\n(see Community Table calendar for details) \n.o0o. \nJoin Art of Hosting Steward and Story Activist Mary Alice Arthur for this extraordinary opportunity to integrate the “secret sauce” of story into your hosting practice. \nHosted by the World Cafe Community Foundation\, this is a World Cafe Live! event featuring practitioners within the international community of World Cafe and other participatory practices. We come together to share our passions\, inspire and inform each other\, and explore – in community. \nMarty Alice Arthur is a renowned international host who has integrated her passion for story and narrative into her hosting practice at a deep level. \nJoin us for this exciting World Cafe to inhabit your own story more fully\, and learn more about how to bring story into your hosting practice.    \nREGISTER NOW\n  \n \nMary Alice Arthur\nwww.getsoaring.com \nMary Alice is a Story Activist working with story in service of positive systemic shift and for focusing collective intelligence on critical issues. She guides people to find and activate the story that will take them into a larger and more authentic future.  \nWith story as an ally\, people become the visionary leaders\, changemakers\, and paradigm shifters they want to be. They know story is our lens on the world and determines our agency. They have the knowledge and tools to change it for the better.
URL:https://www.wedialogue.com/event/world-cafe-live-story-the-secret-sauce-of-extraordinary-hosting/
LOCATION:ONLINE
CATEGORIES:World Cafe Live!
ATTACH;FMTTYPE=image/jpeg:https://www.wedialogue.com/wp-content/uploads/book-2.jpg
END:VEVENT
BEGIN:VEVENT
DTSTART;TZID=America/Los_Angeles:20220119T100000
DTEND;TZID=America/Los_Angeles:20220119T143000
DTSTAMP:20260422T205939
CREATED:20211118T184734Z
LAST-MODIFIED:20211217T020915Z
UID:2712-1642586400-1642602600@www.wedialogue.com
SUMMARY:Awakening Collaborative Wisdom: Nourishing the Garden
DESCRIPTION:Wednesday\, January 19\, 2022\n10 – 12:30 Pacific Time | 1 – 3:30 Eastern Time | 7 – 9:30 Central European Time\nONLINE\nJoin the next gathering of our growing global community of practice and engage in an inquiry free from any agenda other than birthing emergent Awareness. Through a series of small group conversations\, grounded in authenticity\, shared learning\, and heart\, you will witness wisdom revealing itself through (and to) all\, ultimately showering the garden of life. \nBring your curiosity\, playfulness\, and receptivity to a field where people can share from the heart. Please consider inviting a friend to our awakening and emerging inquiry. \nYour hosts – David Isaacs\, Carol Gorelick\, Bruce Noll\, Greta Anderson\, Gordon Brode\, Andrew Mackenzie\, and the team from the World Café Community Foundation Amy Lenzo\, Michaela Sieh\, and Viola Clark –  look forward to welcoming you. \nREGISTER NOW!\n(sliding scale to everyone – free for Community Table Subscribers – see Calendar for code) \nYou’re invited to be part of this ongoing exploration of our collective capacity to awaken collaborative wisdom at deeper and deeper levels. We want to keep you updated with occasional communications while respecting email privacy laws\, so please indicate your willingness to be contacted by clicking the box to join the ACW mailing list when you register.
URL:https://www.wedialogue.com/event/awakening-collaborative-wisdom-nourishing-the-garden/
LOCATION:ONLINE
CATEGORIES:World Cafe Live!
ATTACH;FMTTYPE=image/jpeg:https://www.wedialogue.com/wp-content/uploads/cracking-open.jpg
ORGANIZER;CN="The World Cafe Community Foundation":MAILTO:amy@theworldcafe.com
END:VEVENT
BEGIN:VEVENT
DTSTART;TZID=America/Los_Angeles:20210623T100000
DTEND;TZID=America/Los_Angeles:20210623T123000
DTSTAMP:20260422T205939
CREATED:20210605T193212Z
LAST-MODIFIED:20210605T193321Z
UID:2601-1624442400-1624451400@www.wedialogue.com
SUMMARY:Awakening Collaborative Wisdom: Sensing Collective Curiosity
DESCRIPTION:Much of Western culture is driven by establishing what we collectively measure\, know\, and believe. But what if our schools\, organizations\, businesses\, and governments pivoted to source what we are collectively curious about? Might the collective unconscious hold not just humanity’s shared memory\, images\, and stories\, but deep\, collaborative inquiry and untapped curiosity?   \nThis inquiry is for anyone who senses that there is power in the unknown and is willing to trace curiosity back to our source. \nREGISTER NOW
URL:https://www.wedialogue.com/event/awakening-collaborative-wisdom-sensing-collective-curiosity/
LOCATION:ONLINE
CATEGORIES:World Cafe Live!
ATTACH;FMTTYPE=image/jpeg:https://www.wedialogue.com/wp-content/uploads/cracking-open.jpg
ORGANIZER;CN="The World Cafe Community Foundation":MAILTO:amy@theworldcafe.com
END:VEVENT
BEGIN:VEVENT
DTSTART;TZID=America/Los_Angeles:20200826T100000
DTEND;TZID=America/Los_Angeles:20200826T123000
DTSTAMP:20260422T205939
CREATED:20200803T170803Z
LAST-MODIFIED:20200803T231150Z
UID:2429-1598436000-1598445000@www.wedialogue.com
SUMMARY:Engaging the Magic in the Middle
DESCRIPTION:This is something extremely special – a combination of celebrating and honouring the contributions of one extraordinary man\, and an ongoing inquiry into the nature of collective intelligence that he first sparked over two decades ago.\n\nAs co-founder of the World Cafe\, a primary contributor to the development of the Art of Hosting and the Flow Game\, as well as a leader of the inquiry into collective consciousness – Finn’s is an Origin Story with relevance in many fields.\n\nIn this 25th Anniversary year for the World Cafe\, we’re offering this event as a way to come together as a “central garden” of participatory practitioners & celebrate Finn’s legacy… all who feel connected to Finn and his inquiry into engaging collective intelligence and the “Magic in the Middle” are welcome!\nEngaging the Magic in the Middle  \nHonoring Finn Voldtofte:\nAn Ongoing Inquiry into Collective Intelligence \nAugust 26\, \n10 am – 12.30 pm Pacific Time \nONLINE \nBy Donation \nHosted by\nThe World Cafe Community Foundation & Beehive Productions  \nREGISTER HERE
URL:https://www.wedialogue.com/event/engaging-magic-in-the-middle/
LOCATION:CLUBHOUSE
CATEGORIES:Beehive Event,World Cafe Live!
ATTACH;FMTTYPE=image/jpeg:https://www.wedialogue.com/wp-content/uploads/Leaf-Fractal.jpg
ORGANIZER;CN="The World Cafe Community Foundation":MAILTO:amy@theworldcafe.com
END:VEVENT
BEGIN:VEVENT
DTSTART;TZID=America/Los_Angeles:20200420T100000
DTEND;TZID=America/Los_Angeles:20200420T120000
DTSTAMP:20260422T205939
CREATED:20200327T215851Z
LAST-MODIFIED:20200403T195241Z
UID:2355-1587376800-1587384000@www.wedialogue.com
SUMMARY:Belonging in the Age of Quarantine
DESCRIPTION:In this unique – yet shared – experience of social distancing and quarantine\, we invite time to reflect on our personal and collective humanity and sense of belonging… \n\n\nHow has your sense of belonging shifted in these times?\n\nWho do you belong to? Where do you belong now?\nWho do we belong to?  Where do we belong now?\n\nAnd how will our new sense of belonging impact us\, our families\, communities\, and the world?\n\n\nWe look forward to seeing you there! \nA World Cafe Live! Event\nFREE to Community Table subscribers\n\nREGISTER HERE\n  \nYour Hosts\nAmy Lenzo\, Lina Cramer\, and Michaela Sieh
URL:https://www.wedialogue.com/event/belonging-in-the-age-of-quarantine/
LOCATION:CLUBHOUSE
CATEGORIES:World Cafe Live!
ATTACH;FMTTYPE=image/jpeg:https://www.wedialogue.com/wp-content/uploads/belonging-fish.jpg
ORGANIZER;CN="The World Cafe Community Foundation":MAILTO:amy@theworldcafe.com
END:VEVENT
BEGIN:VEVENT
DTSTART;TZID=America/Los_Angeles:20200324T100000
DTEND;TZID=America/Los_Angeles:20200324T123000
DTSTAMP:20260422T205939
CREATED:20200222T022952Z
LAST-MODIFIED:20200222T023125Z
UID:2334-1585044000-1585053000@www.wedialogue.com
SUMMARY:ProAction Cafe on the Future of Democracy
DESCRIPTION:With Rainer von Leoprechting \nIf Democracy is today as broken as it seems to be\, what needs to be hosted so it can begin to heal? \nBring your projects\, initiatives and ambitions.  \nIn these times\, it’s appropriate to be bold. Democracy is only one of those big social systems that are in crisis and might need to be completely revamped and re-started again\, but it’s a significant one. \nWhat are the next elegant steps? \nLet’s meet and find out! One initiative at a time. Bring your projects to the conversation. Get strength and inspiration from dialogue with others\, and take fresh\, elegant\, actions home with you for your own next steps. \nWe look forward to seeing you there! \nA World Cafe Live! Event\nFREE to Community Table subscribers\n\nREGISTER HERE\n  \nYour Hosts\nRainer von Leoprechting\, Michaela Sieh and Amy Lenzo
URL:https://www.wedialogue.com/event/proaction-cafe-on-the-future-of-democracy/
LOCATION:CLUBHOUSE
CATEGORIES:World Cafe Live!
ATTACH;FMTTYPE=image/jpeg:https://www.wedialogue.com/wp-content/uploads/DemocracyNow.jpg
ORGANIZER;CN="The World Cafe Community Foundation":MAILTO:amy@theworldcafe.com
END:VEVENT
END:VCALENDAR