BEGIN:VCALENDAR
VERSION:2.0
PRODID:-//weDialogue - ECPv6.15.20//NONSGML v1.0//EN
CALSCALE:GREGORIAN
METHOD:PUBLISH
X-ORIGINAL-URL:https://www.wedialogue.com
X-WR-CALDESC:Events for weDialogue
REFRESH-INTERVAL;VALUE=DURATION:PT1H
X-Robots-Tag:noindex
X-PUBLISHED-TTL:PT1H
BEGIN:VTIMEZONE
TZID:America/Los_Angeles
BEGIN:DAYLIGHT
TZOFFSETFROM:-0800
TZOFFSETTO:-0700
TZNAME:PDT
DTSTART:20160313T100000
END:DAYLIGHT
BEGIN:STANDARD
TZOFFSETFROM:-0700
TZOFFSETTO:-0800
TZNAME:PST
DTSTART:20161106T090000
END:STANDARD
BEGIN:DAYLIGHT
TZOFFSETFROM:-0800
TZOFFSETTO:-0700
TZNAME:PDT
DTSTART:20170312T100000
END:DAYLIGHT
BEGIN:STANDARD
TZOFFSETFROM:-0700
TZOFFSETTO:-0800
TZNAME:PST
DTSTART:20171105T090000
END:STANDARD
BEGIN:DAYLIGHT
TZOFFSETFROM:-0800
TZOFFSETTO:-0700
TZNAME:PDT
DTSTART:20180311T100000
END:DAYLIGHT
BEGIN:STANDARD
TZOFFSETFROM:-0700
TZOFFSETTO:-0800
TZNAME:PST
DTSTART:20181104T090000
END:STANDARD
BEGIN:DAYLIGHT
TZOFFSETFROM:-0800
TZOFFSETTO:-0700
TZNAME:PDT
DTSTART:20190310T100000
END:DAYLIGHT
BEGIN:STANDARD
TZOFFSETFROM:-0700
TZOFFSETTO:-0800
TZNAME:PST
DTSTART:20191103T090000
END:STANDARD
BEGIN:DAYLIGHT
TZOFFSETFROM:-0800
TZOFFSETTO:-0700
TZNAME:PDT
DTSTART:20200308T100000
END:DAYLIGHT
BEGIN:STANDARD
TZOFFSETFROM:-0700
TZOFFSETTO:-0800
TZNAME:PST
DTSTART:20201101T090000
END:STANDARD
END:VTIMEZONE
BEGIN:VTIMEZONE
TZID:Europe/Helsinki
BEGIN:DAYLIGHT
TZOFFSETFROM:+0200
TZOFFSETTO:+0300
TZNAME:EEST
DTSTART:20180325T010000
END:DAYLIGHT
BEGIN:STANDARD
TZOFFSETFROM:+0300
TZOFFSETTO:+0200
TZNAME:EET
DTSTART:20181028T010000
END:STANDARD
BEGIN:DAYLIGHT
TZOFFSETFROM:+0200
TZOFFSETTO:+0300
TZNAME:EEST
DTSTART:20190331T010000
END:DAYLIGHT
BEGIN:STANDARD
TZOFFSETFROM:+0300
TZOFFSETTO:+0200
TZNAME:EET
DTSTART:20191027T010000
END:STANDARD
BEGIN:DAYLIGHT
TZOFFSETFROM:+0200
TZOFFSETTO:+0300
TZNAME:EEST
DTSTART:20200329T010000
END:DAYLIGHT
BEGIN:STANDARD
TZOFFSETFROM:+0300
TZOFFSETTO:+0200
TZNAME:EET
DTSTART:20201025T010000
END:STANDARD
END:VTIMEZONE
BEGIN:VEVENT
DTSTART;TZID=America/Los_Angeles:20190917T100000
DTEND;TZID=America/Los_Angeles:20190917T120000
DTSTAMP:20260423T000110
CREATED:20180401T231658Z
LAST-MODIFIED:20191001T003818Z
UID:1871-1568714400-1568721600@www.wedialogue.com
SUMMARY:The Art of Questions
DESCRIPTION:Three Tuesdays: September 17th\, 24th\, & October 1st.\n10am – 12am Pacific Time | 1-3 Eastern Time | 7 – 9pm CET \n$250 (see registration for alternative fees)\nGROUP DISCOUNT: Groups of 3 or more 30% OFF \nHosted by Amy Lenzo & Rowan Simonsen \nwith SPECIAL GUESTS Marilee Adams\, Diana Whitney & Bob Stilger \nMore Information & REGISTRATION\n 
URL:https://www.wedialogue.com/event/the-art-of-questions-unpacking-questions-for-today/
LOCATION:CLUBHOUSE
CATEGORIES:Training
ATTACH;FMTTYPE=image/jpeg:https://www.wedialogue.com/wp-content/uploads/frontpage.jpg
END:VEVENT
BEGIN:VEVENT
DTSTART;TZID=America/Los_Angeles:20190908T090000
DTEND;TZID=America/Los_Angeles:20190908T230000
DTSTAMP:20260423T000110
CREATED:20170801T220029Z
LAST-MODIFIED:20191001T004407Z
UID:1621-1567933200-1567983600@www.wedialogue.com
SUMMARY:World Cafe Hosting Fundamentals
DESCRIPTION:This rigorous\, highly interactive 8-week online course is designed for serious practitioners who are looking for a solid understanding of the World Café method and philosophy\, and want to work with their peers\, guided by senior practitioners to learn how to host powerful and effective World Cafés. \nRegular “real time” Study Groups and assignments using state-of-the-art distance learning forums in the World Cafe format. \nSaturday\, September 14th – Opening Session –  9 – 11am Pacific Time\nWednesday\, October 9th – Online World Cafe – 10 – 12:30am Pacific Time\nSaturdays\, September 21st\, October 5th\, 12th\, 19th\, & 26th – Real-Time Study Groups – 10 – 11:30am Pacific Time\nSaturday\, November 2nd  – Closing Session 9 – 11am Pacific Time \nCourse fee includes required reading materials in e-format: The World Café: Shaping Our Futures Through Conversations That Matter\, The World Cafe: Living Knowledge Through Conversations That Matter\, and The Art of Powerful Questions. \nA Signature World Cafe Learning Program\nOffered in partnership with the Institute for Social Innovation at Fielding Graduate University \nInstructor: Director of World Cafe Signature Learning Programs\, Adjunct Faculty member at Fielding Graduate Institute\, and Senior World Cafe host\, Amy Lenzo \nCosts:\n$800/$750 EARLY BIRD (ends Aug 19th)\n$650 / $600 Fielding Alumni \nRegistration closes September 3rd\n(a $50 administrative late fee will be charged for registrations accepted after this date) \n \nMore Information & Link to Register
URL:https://www.wedialogue.com/event/world-cafe-hosting-fundamentals/
LOCATION:CLUBHOUSE
CATEGORIES:Training,World Cafe
ATTACH;FMTTYPE=image/jpeg:https://www.wedialogue.com/wp-content/uploads/fieldingcourse.jpg
ORGANIZER;CN="The World Cafe Community Foundation":MAILTO:amy@theworldcafe.com
END:VEVENT
BEGIN:VEVENT
DTSTART;TZID=Europe/Helsinki:20190615T100000
DTEND;TZID=Europe/Helsinki:20190616T173000
DTSTAMP:20260423T000110
CREATED:20190613T125627Z
LAST-MODIFIED:20190613T140953Z
UID:2129-1560592800-1560706200@www.wedialogue.com
SUMMARY:The World Cafe Training in Athens
DESCRIPTION:How can The World Café change my personal practice\, organization or community? \nIn Greece\, Art of Hosting Athina has been offering the Art of Participatory Leadership Trainings for the past eight years\, bringing a new form of leadership where collaboration and participation open new possibilities. \nAoHAthina\, in partnership with Amy Lenzo and The World Café are bringing this two-day training to Greece so that people can learn how this simple yet powerful approach can bring change to personal practice\, organisations and communities. We invite\, teachers\, managers\, social entrepreneurs\, people working in companies\, civil society organisations\, civil servants\, students\, etc. to join us in this participative and experiential training. The training aims at providing you with the foundational aspects so that you can apply the World Café in different contexts and for different purposes. \nSaturday\, June 15th from 10am to 6pm\nSunday\, 16 June 2019 from 10am – 5:30pm \nCoffee\, Tea\, and Refreshments Included\n(You will be responsible for your own lunch) \nTO REGISTER 
URL:https://www.wedialogue.com/event/the-world-cafe-training-in-athens/
LOCATION:Athens\, Greece
CATEGORIES:Training,Workshop,World Cafe
ATTACH;FMTTYPE=image/png:https://www.wedialogue.com/wp-content/uploads/Screen-Shot-2019-06-13-at-4.31.37-PM.png
ORGANIZER;CN="The World Cafe Community Foundation":MAILTO:amy@theworldcafe.com
END:VEVENT
BEGIN:VEVENT
DTSTART;TZID=America/Los_Angeles:20190422T100000
DTEND;TZID=America/Los_Angeles:20190422T120000
DTSTAMP:20260423T000110
CREATED:20190319T072608Z
LAST-MODIFIED:20190319T072821Z
UID:2076-1555927200-1555934400@www.wedialogue.com
SUMMARY:The Practical Magic of Online Hosting: Presence\, Relationship\, Technology & Design
DESCRIPTION:Six Mondays – April 22\, April 29\, May 6\, May 13\, May 20 & May 27th\n10am – 12pm Pacific Time | 1 – 3pm Eastern Time | 7 – 9 Central European Time \nJoin us for Amy & FireHawk’s latest and greatest Online Hosting course. This is a very special time to do this training as we are featuring a new LMS format AND a private community forum AND an additional FREE  “Flex” training ($149 value): Mastering the Art of Tech Hosting. \nHosted by Amy Lenzo and FireHawk Hulin \nCome join us and discover for yourself what it takes to bring your hosting work online – authentically\, confidently\, and effectively. \nFor More Information & Registration
URL:https://www.wedialogue.com/event/the-practical-magic-of-online-hosting-presence-relationship-technology-design/
LOCATION:CLUBHOUSE
CATEGORIES:Course,Training
ATTACH;FMTTYPE=image/jpeg:https://www.wedialogue.com/wp-content/uploads/Practical-Magic-Banner-blank.jpg
ORGANIZER;CN="weDialogue":MAILTO:amy@wedialogue.com
END:VEVENT
BEGIN:VEVENT
DTSTART;TZID=America/Los_Angeles:20190402T100000
DTEND;TZID=America/Los_Angeles:20190402T120000
DTSTAMP:20260423T000110
CREATED:20190322T083252Z
LAST-MODIFIED:20190322T083252Z
UID:2098-1554199200-1554206400@www.wedialogue.com
SUMMARY:Leaning in to Conflict
DESCRIPTION:With Rowan Simonsen\, Nina Nisar and Jay Rothman \nHow do we build capacity to be with conflict in creative and generative ways\, with kindness and courage at the center? \nHow can we be and work with the intensity and creative potential of complexity\, confusion\, and difference? \nWhat are we learning about working in the liminal space between conflict and collaboration? \nConflict like fire can burn\, illuminate or transform\, depending on HOW we handle it. In this course we  explore how to lean in to the fire of conflict and work with it\, and each other\, with greater skill\, respect and care. Leaning in to conflict – including the pain and confusion that often accompany it – and staying with it\, can help us learn and connect more deeply with ourselves and each other.\n\nWe invite you to join this exploration and deepening practice of creative conflict engagement that can help us collaborate better\, improve OUR relationships and ultimately make peace with conflict.
URL:https://www.wedialogue.com/event/leaning-in-to-conflict/
LOCATION:CLUBHOUSE
CATEGORIES:Training
ATTACH;FMTTYPE=image/png:https://www.wedialogue.com/wp-content/uploads/Screenshot-2019-03-21-at-23.17.31.png
END:VEVENT
BEGIN:VEVENT
DTSTART;TZID=America/Los_Angeles:20180205T100000
DTEND;TZID=America/Los_Angeles:20180205T120000
DTSTAMP:20260423T000110
CREATED:20171112T214327Z
LAST-MODIFIED:20180122T172239Z
UID:1727-1517824800-1517832000@www.wedialogue.com
SUMMARY:Chaordic Design with Chris Corrigan
DESCRIPTION:Beehive Productions presents four 2-hour sessions\, every Monday in February 2018 – 5th\, 12th\, 19th & 26th \nWe are all living the constant dance between Chaos and Order. \nEverybody working in organizational life now is a designer\, increasingly working within more uncertainty and more demands on us to design solutions for the challenges that we are facing. This is true in both our personal and professional lives\, yet few of us have been trained to offer enough structure and clarity for new and better solutions to emerge. \nFor the last 2 decades strategic change agent Chris Corrigan has focused on understanding and integrating the principles and practices of Chaordic Design. This course will be like no other we have offered so far\, building on existing work in the field and bringing to bear all that Chris has been learning for a practical\, hands-on application of the tools and principles of Chaordic Design – Bring your projects and let’s get to work! \nREGISTER NOW \nWe encourage groups who want to work together by offering a special 40% discount for teams of 4 or more. Contact us with details (names and email addresses of your team) & we’ll send you the team “promo code”. \n 
URL:https://www.wedialogue.com/event/chaordic-design-with-chris-corrigan/
LOCATION:CLUBHOUSE
CATEGORIES:Course,Training
ATTACH;FMTTYPE=image/jpeg:https://www.wedialogue.com/wp-content/uploads/Chaordic-Design-Banner.jpg
END:VEVENT
BEGIN:VEVENT
DTSTART;TZID=America/Los_Angeles:20171023T090000
DTEND;TZID=America/Los_Angeles:20171023T110000
DTSTAMP:20260423T000110
CREATED:20170802T224535Z
LAST-MODIFIED:20170802T224858Z
UID:1638-1508749200-1508756400@www.wedialogue.com
SUMMARY:World Café: la magia de la conversación
DESCRIPTION:Principios & Prácticas de la Inteligencia Colectiva \nYa sea que formemos parte de una empresa\, organización\, o comunidad\, saber conversar acerca de los temas que nos importan es esencial\, ¿Cuáles son las condiciones para que podamos hacerlo bien? \nEste curso on-line te propone aprender los principios que subyacen en toda conversación significativa\, y tener la habilidad de facilitar una de las metodologías de diálogo más potentes -el World Café- para que las personas podamos generar Inteligencia Colectiva al explorar los desafíos. \nComienza el próximo 23 de Octubre \nFechas:\nSesión 1: 23 de Octubre\nSesión 2: 30 de Octubre\nSesión 3: 6 de Noviembre\nSesión 4: 13 de Noviembre \nHora:\nCentroamérica: de 10am a 12pm\nMéxico / Colombia / Perú / Ecuador: de 11am a 1pm\nChile / Bolivia / Venezuela: de 12pm a 2pm\nArgentina / Uruguay / Brasil: de 1pm a 3pm\nEspaña 6pm – 8pm \nMás información \nINSCRIBETE AHORA! \nConsultas: hola@beehive-productions.net \nAnfitrionado por: Martín Castro\, Rowan Simonsen y Amy Lenzo y con Juanita Brown como invitada especial.
URL:https://www.wedialogue.com/event/world-cafe-la-magia-de-la-conversacion/
LOCATION:CLUBHOUSE
CATEGORIES:Training,World Cafe
ATTACH;FMTTYPE=image/png:https://www.wedialogue.com/wp-content/uploads/spanishWC-course-wDimage.png
END:VEVENT
END:VCALENDAR