BEGIN:VCALENDAR
VERSION:2.0
PRODID:-//weDialogue - ECPv6.15.20//NONSGML v1.0//EN
CALSCALE:GREGORIAN
METHOD:PUBLISH
X-ORIGINAL-URL:https://www.wedialogue.com
X-WR-CALDESC:Events for weDialogue
REFRESH-INTERVAL;VALUE=DURATION:PT1H
X-Robots-Tag:noindex
X-PUBLISHED-TTL:PT1H
BEGIN:VTIMEZONE
TZID:America/Los_Angeles
BEGIN:DAYLIGHT
TZOFFSETFROM:-0800
TZOFFSETTO:-0700
TZNAME:PDT
DTSTART:20170312T100000
END:DAYLIGHT
BEGIN:STANDARD
TZOFFSETFROM:-0700
TZOFFSETTO:-0800
TZNAME:PST
DTSTART:20171105T090000
END:STANDARD
BEGIN:DAYLIGHT
TZOFFSETFROM:-0800
TZOFFSETTO:-0700
TZNAME:PDT
DTSTART:20180311T100000
END:DAYLIGHT
BEGIN:STANDARD
TZOFFSETFROM:-0700
TZOFFSETTO:-0800
TZNAME:PST
DTSTART:20181104T090000
END:STANDARD
BEGIN:DAYLIGHT
TZOFFSETFROM:-0800
TZOFFSETTO:-0700
TZNAME:PDT
DTSTART:20190310T100000
END:DAYLIGHT
BEGIN:STANDARD
TZOFFSETFROM:-0700
TZOFFSETTO:-0800
TZNAME:PST
DTSTART:20191103T090000
END:STANDARD
BEGIN:DAYLIGHT
TZOFFSETFROM:-0800
TZOFFSETTO:-0700
TZNAME:PDT
DTSTART:20200308T100000
END:DAYLIGHT
BEGIN:STANDARD
TZOFFSETFROM:-0700
TZOFFSETTO:-0800
TZNAME:PST
DTSTART:20201101T090000
END:STANDARD
END:VTIMEZONE
BEGIN:VEVENT
DTSTART;VALUE=DATE:20190121
DTEND;VALUE=DATE:20190211
DTSTAMP:20260422T212907
CREATED:20181220T220409Z
LAST-MODIFIED:20190125T213124Z
UID:2029-1548028800-1549843199@www.wedialogue.com
SUMMARY:StoryMaking & StoryShaping in a Divided World
DESCRIPTION:A Story the Future Learning Encounter\nJan 21 – Feb 10\n10:00 – 12:00 PT / 1:00 – 3:00 EST / 19:00 – 21:00 CET \nSTF Learning Encounters focus on the “how to” of story. Our narrative change practitioners will share specific practices and techniques — in straightforward “how to” language — that you can begin to apply immediately. If you’ve ever thought\, “I’d like to learn how to do this work\,” we will show you how! \nEach week you will experience a series of free interviews pointing to the different aspects of storymaking and storyshaping. Each interview will be available for the week in which it appears. With an all-access pass\, you’ll have access to all the free interviews for an extended period of time\, PLUS participate in six real-time skill-building “how to” online workshops in which our faculty of global story practitioners share all of their secrets and best practices with you! Registration is also available for indivdual workshops at $67 each (see registration links below for all the options). \n \nJoin us for all of them\, or as many as you like!\nMORE INFORMATION\nREGISTER NOW (ALL OPTIONS)
URL:https://www.wedialogue.com/event/storymaking-storyshaping-in-a-divided-world/
LOCATION:CLUBHOUSE
CATEGORIES:Summit,Workshop
ATTACH;FMTTYPE=image/jpeg:https://www.wedialogue.com/wp-content/uploads/STF-Learning-Encounter-Banner.jpg
END:VEVENT
BEGIN:VEVENT
DTSTART;VALUE=DATE:20181229
DTEND;VALUE=DATE:20190106
DTSTAMP:20260422T212907
CREATED:20181205T230834Z
LAST-MODIFIED:20181205T230907Z
UID:2006-1546041600-1546732799@www.wedialogue.com
SUMMARY:IMAGINE2019
DESCRIPTION:STARTS DECEMBER 29TH \nTwo Live Events: 29 December 2018 & 5 January 2019\n10:00am – 12:00pm PT | 1:00 – 3:-0 ET | 19:00 – 21:00 CET \nUnique video content delivered to your in-box every day from Dec 30 – Jan 4 to support this self-paced adventure. \nWhat if 2019 were your best year yet – a time when everything comes together\, when your passion and purpose ignites\, when you have the courage to shine and manifest all you can imagine for yourself? \nImagine 2019 is an online event you can join from anywhere in the world\, any time of the day. It is designed to create the focus and intention to carry you into the stratosphere while deeply grounding you in your purpose with a healthy root system to nourish your dreams. \nThis eight-day series will give you the tools to ignite your purpose\, create your vision and live your possibilities and potential. We invite you to light up your imagination and warm your spirit at the campfire of community as we step into the new year together – clear\, resourced\, and with a circle of allies and supporters at our backs. \nThis is the ideal moment in the year to give yourself the gift of time and intention. Use the alchemy of the season to put a strong foundation under your dreams. And access the power of community to strengthen your resolve\, open the doorway\, and illuminate the way forward. \nJoin us for IMAGINE 2019! \nMORE INFORMATION \nREGISTER NOW
URL:https://www.wedialogue.com/event/imagine2019/
LOCATION:CLUBHOUSE
CATEGORIES:Summit
ATTACH;FMTTYPE=image/jpeg:https://www.wedialogue.com/wp-content/uploads/ParticipantPageBanner2.jpg
END:VEVENT
BEGIN:VEVENT
DTSTART;TZID=America/Los_Angeles:20181005T130000
DTEND;TZID=America/Los_Angeles:20181007T210000
DTSTAMP:20260422T212907
CREATED:20181002T005128Z
LAST-MODIFIED:20181002T005505Z
UID:1969-1538744400-1538946000@www.wedialogue.com
SUMMARY:STORY THE FUTURE BINGE WEEKEND
DESCRIPTION:Story the Future ONLINE SUMMIT – BINGE WEEKEND\n75 international speakers on the role of story and storytelling – 42 hours of content\, and an amazingly rich community conversation. \nGrab your friends\, a big bowl of popcorn\, and come join the party!!
URL:https://www.wedialogue.com/event/story-the-future-binge-weekend/
LOCATION:CLUBHOUSE
CATEGORIES:Summit
ATTACH;FMTTYPE=image/jpeg:https://www.wedialogue.com/wp-content/uploads/binge2-copy.jpg
END:VEVENT
BEGIN:VEVENT
DTSTART;VALUE=DATE:20180910
DTEND;VALUE=DATE:20181001
DTSTAMP:20260422T212907
CREATED:20180903T203459Z
LAST-MODIFIED:20180903T204443Z
UID:1952-1536537600-1538351999@www.wedialogue.com
SUMMARY:Story the Future Online Summit
DESCRIPTION:Dates: September 10 – 30\nALL DAY EVERY DAY\nHosts: Amy Lenzo\, Mary Alice Arthur\, David Drake and David Hutchens \nThree weeks of interviews with 70+ storytellers and story-makers – the people who help craft the narratives we live in now\, and want to grow into for the future.\nPLUS: Three “Live Events” real-time online interactive sessions for speakers\, hosts\, & participants to engage each other in conversation about each weeks theme. \nCome join us!
URL:https://www.wedialogue.com/event/story-the-future-online-summit/
LOCATION:CLUBHOUSE
CATEGORIES:Summit
ATTACH;FMTTYPE=image/jpeg:https://www.wedialogue.com/wp-content/uploads/StoryTheFuture-square.jpg
END:VEVENT
END:VCALENDAR