BEGIN:VCALENDAR
VERSION:2.0
PRODID:-//weDialogue - ECPv6.15.20//NONSGML v1.0//EN
CALSCALE:GREGORIAN
METHOD:PUBLISH
X-WR-CALNAME:weDialogue
X-ORIGINAL-URL:https://www.wedialogue.com
X-WR-CALDESC:Events for weDialogue
REFRESH-INTERVAL;VALUE=DURATION:PT1H
X-Robots-Tag:noindex
X-PUBLISHED-TTL:PT1H
BEGIN:VTIMEZONE
TZID:Europe/Paris
BEGIN:DAYLIGHT
TZOFFSETFROM:+0100
TZOFFSETTO:+0200
TZNAME:CEST
DTSTART:20180325T010000
END:DAYLIGHT
BEGIN:STANDARD
TZOFFSETFROM:+0200
TZOFFSETTO:+0100
TZNAME:CET
DTSTART:20181028T010000
END:STANDARD
BEGIN:DAYLIGHT
TZOFFSETFROM:+0100
TZOFFSETTO:+0200
TZNAME:CEST
DTSTART:20190331T010000
END:DAYLIGHT
BEGIN:STANDARD
TZOFFSETFROM:+0200
TZOFFSETTO:+0100
TZNAME:CET
DTSTART:20191027T010000
END:STANDARD
BEGIN:DAYLIGHT
TZOFFSETFROM:+0100
TZOFFSETTO:+0200
TZNAME:CEST
DTSTART:20200329T010000
END:DAYLIGHT
BEGIN:STANDARD
TZOFFSETFROM:+0200
TZOFFSETTO:+0100
TZNAME:CET
DTSTART:20201025T010000
END:STANDARD
END:VTIMEZONE
BEGIN:VTIMEZONE
TZID:America/Los_Angeles
BEGIN:DAYLIGHT
TZOFFSETFROM:-0800
TZOFFSETTO:-0700
TZNAME:PDT
DTSTART:20170312T100000
END:DAYLIGHT
BEGIN:STANDARD
TZOFFSETFROM:-0700
TZOFFSETTO:-0800
TZNAME:PST
DTSTART:20171105T090000
END:STANDARD
BEGIN:DAYLIGHT
TZOFFSETFROM:-0800
TZOFFSETTO:-0700
TZNAME:PDT
DTSTART:20180311T100000
END:DAYLIGHT
BEGIN:STANDARD
TZOFFSETFROM:-0700
TZOFFSETTO:-0800
TZNAME:PST
DTSTART:20181104T090000
END:STANDARD
BEGIN:DAYLIGHT
TZOFFSETFROM:-0800
TZOFFSETTO:-0700
TZNAME:PDT
DTSTART:20190310T100000
END:DAYLIGHT
BEGIN:STANDARD
TZOFFSETFROM:-0700
TZOFFSETTO:-0800
TZNAME:PST
DTSTART:20191103T090000
END:STANDARD
END:VTIMEZONE
BEGIN:VEVENT
DTSTART;TZID=Europe/Paris:20190625T090000
DTEND;TZID=Europe/Paris:20190625T180000
DTSTAMP:20260422T213250
CREATED:20190613T132944Z
LAST-MODIFIED:20190613T132944Z
UID:2145-1561453200-1561485600@www.wedialogue.com
SUMMARY:World Cafe Hybrid Community Day - Online & Onsite near Frankfurt
DESCRIPTION:We are thrilled to invite you to a World Café Community Day to share key insights and learnings\, reinforce the core elements of the World Café and create an opportunity to connect across Europe in a hybrid format (online & onsite). \nJoin Amy Lenzo and Sabine Soeder and the CoCreativeFlow team on the ground in Frankfurt for a deep and wonderful exploration of what creates the “magic in the middle” of World Cafe. Contribute to the World Cafe community of practice in Germany and beyond!
URL:https://www.wedialogue.com/event/world-cafe-hybrid-community-day-online-onsite-near-frankfurt/
LOCATION:Thiiird Place\, Oberursel\, Germany & Online\, Oberursel\, Germany
CATEGORIES:Hybrid Event
ATTACH;FMTTYPE=image/jpeg:https://www.wedialogue.com/wp-content/uploads/190524_TWC_EU_Leaning_lab.jpg
ORGANIZER;CN="The World Cafe Community Foundation":MAILTO:amy@theworldcafe.com
END:VEVENT
BEGIN:VEVENT
DTSTART;TZID=America/Los_Angeles:20180310T093000
DTEND;TZID=America/Los_Angeles:20180310T120000
DTSTAMP:20260422T213250
CREATED:20180307T004719Z
LAST-MODIFIED:20180307T004832Z
UID:1843-1520674200-1520683200@www.wedialogue.com
SUMMARY:Nexus4Change Hybrid Conversation: The Illumination Project
DESCRIPTION:In the wake of the murders at the Mother Emanuel church in Charleston\, South Carolina last year\, the Illumination Project is attempting a positive response to the challenges that face that community and so many others in this seminal moment in US history. \nThis two hour hybrid event (come 1/2 hour early for networking and tech set up) will feature presentations by Illumination Project founder Jake Jacobs and others. Join us to be in conversation with other participants from across the country and engage the directors of this hopeful initiative. \nHosted by Steve Cady\, Nexus4Change (onsite) and Amy Lenzo weDialogue (online) \nREGISTER NOW
URL:https://www.wedialogue.com/event/nexus4change-hybrid-conversation-the-illumination-project/
LOCATION:CLUBHOUSE
CATEGORIES:Hybrid Event
ATTACH;FMTTYPE=image/jpeg:https://www.wedialogue.com/wp-content/uploads/illumination.jpg
END:VEVENT
END:VCALENDAR