BEGIN:VCALENDAR
VERSION:2.0
PRODID:-//weDialogue - ECPv6.15.20//NONSGML v1.0//EN
CALSCALE:GREGORIAN
METHOD:PUBLISH
X-WR-CALNAME:weDialogue
X-ORIGINAL-URL:https://www.wedialogue.com
X-WR-CALDESC:Events for weDialogue
REFRESH-INTERVAL;VALUE=DURATION:PT1H
X-Robots-Tag:noindex
X-PUBLISHED-TTL:PT1H
BEGIN:VTIMEZONE
TZID:America/Los_Angeles
BEGIN:DAYLIGHT
TZOFFSETFROM:-0800
TZOFFSETTO:-0700
TZNAME:PDT
DTSTART:20200308T100000
END:DAYLIGHT
BEGIN:STANDARD
TZOFFSETFROM:-0700
TZOFFSETTO:-0800
TZNAME:PST
DTSTART:20201101T090000
END:STANDARD
BEGIN:DAYLIGHT
TZOFFSETFROM:-0800
TZOFFSETTO:-0700
TZNAME:PDT
DTSTART:20210314T100000
END:DAYLIGHT
BEGIN:STANDARD
TZOFFSETFROM:-0700
TZOFFSETTO:-0800
TZNAME:PST
DTSTART:20211107T090000
END:STANDARD
BEGIN:DAYLIGHT
TZOFFSETFROM:-0800
TZOFFSETTO:-0700
TZNAME:PDT
DTSTART:20220313T100000
END:DAYLIGHT
BEGIN:STANDARD
TZOFFSETFROM:-0700
TZOFFSETTO:-0800
TZNAME:PST
DTSTART:20221106T090000
END:STANDARD
END:VTIMEZONE
BEGIN:VEVENT
DTSTART;TZID=America/Los_Angeles:20211116T100000
DTEND;TZID=America/Los_Angeles:20211116T123000
DTSTAMP:20260423T015939
CREATED:20210802T175635Z
LAST-MODIFIED:20210802T175635Z
UID:2675-1637056800-1637065800@www.wedialogue.com
SUMMARY:November Community World Cafe
DESCRIPTION:This online Community Cafe is part of an ongoing series we host every month with and for the World Cafe community and for the Central Garden of participatory practices.  \nThe monthly online Community Cafes offer us an opportunity to get to know one another\, learn from our diversity\, and weave the web of our international community. They give us a time to lean in and ask what we need to meet the challenges and celebrations before us\, individually and together; a time to listen to others and to speak our truth. A time to remember we are in this together. \nTuesday\, November 16th\n10 am – 12.30 pm San Francisco | 1 – 3.30 pm New York |\n2 – 4.30 pm Rio de Janeiro | 7 – 9.30 pm Brussels \nONLINE \nFee: Sliding Scale $0 – $20\nLet us know if the cost is a challenge. These Community Cafes are for everyone.\n(Always free for Community Table subscribers: please use the code that you’ll find in the Community Table calendar)  \nMore Information and Registration
URL:https://www.wedialogue.com/event/november-community-world-cafe-2/
LOCATION:ONLINE
CATEGORIES:Community World Cafe
ATTACH;FMTTYPE=image/jpeg:https://www.wedialogue.com/wp-content/uploads/table.jpeg
ORGANIZER;CN="The World Cafe Community Foundation":MAILTO:amy@theworldcafe.com
END:VEVENT
BEGIN:VEVENT
DTSTART;TZID=America/Los_Angeles:20211018T100000
DTEND;TZID=America/Los_Angeles:20211018T123000
DTSTAMP:20260423T015939
CREATED:20210802T175450Z
LAST-MODIFIED:20210802T175450Z
UID:2673-1634551200-1634560200@www.wedialogue.com
SUMMARY:October Community World Cafe
DESCRIPTION:This online Community Cafe is part of an ongoing series we host every month with and for the World Cafe community and for the Central Garden of participatory practices.  \nThe monthly online Community Cafes offer us an opportunity to get to know one another\, learn from our diversity\, and weave the web of our international community. They give us a time to lean in and ask what we need to meet the challenges and celebrations before us\, individually and together; a time to listen to others and to speak our truth. A time to remember we are in this together. \nMonday\, October 18th\n10 am – 12.30 pm San Francisco | 1 – 3.30 pm New York |\n2 – 4.30 pm Rio de Janeiro | 7 – 9.30 pm Brussels \nONLINE \nFee: Sliding Scale $0 – $20\nLet us know if the cost is a challenge. These Community Cafes are for everyone.\n(Always free for Community Table subscribers: please use the code that you’ll find in the Community Table calendar)  \nMore Information and Registration
URL:https://www.wedialogue.com/event/october-community-world-cafe-2/
LOCATION:ONLINE
CATEGORIES:Community World Cafe
ATTACH;FMTTYPE=image/jpeg:https://www.wedialogue.com/wp-content/uploads/table.jpeg
ORGANIZER;CN="The World Cafe Community Foundation":MAILTO:amy@theworldcafe.com
END:VEVENT
BEGIN:VEVENT
DTSTART;TZID=America/Los_Angeles:20210914T100000
DTEND;TZID=America/Los_Angeles:20210914T123000
DTSTAMP:20260423T015939
CREATED:20210802T175250Z
LAST-MODIFIED:20210802T175250Z
UID:2670-1631613600-1631622600@www.wedialogue.com
SUMMARY:September Community World Cafe
DESCRIPTION:This online Community Cafe is part of an ongoing series we host every month with and for the World Cafe community and for the Central Garden of participatory practices.  \nThe monthly online Community Cafes offer us an opportunity to get to know one another\, learn from our diversity\, and weave the web of our international community. They give us a time to lean in and ask what we need to meet the challenges and celebrations before us\, individually and together; a time to listen to others and to speak our truth. A time to remember we are in this together. \nTuesday\, September 14th\n10 am – 12.30 pm San Francisco | 1 – 3.30 pm New York |\n2 – 4.30 pm Rio de Janeiro | 7 – 9.30 pm Brussels \nONLINE \nFee: Sliding Scale $0 – $20\nLet us know if the cost is a challenge. These Community Cafes are for everyone.\n(Always free for Community Table subscribers: please use the code that you’ll find in the Community Table calendar)  \nMore Information and Registration
URL:https://www.wedialogue.com/event/september-community-world-cafe-2/
LOCATION:ONLINE
CATEGORIES:Community World Cafe
ATTACH;FMTTYPE=image/jpeg:https://www.wedialogue.com/wp-content/uploads/table.jpeg
ORGANIZER;CN="The World Cafe Community Foundation":MAILTO:amy@theworldcafe.com
END:VEVENT
BEGIN:VEVENT
DTSTART;TZID=America/Los_Angeles:20210817T100000
DTEND;TZID=America/Los_Angeles:20210817T123000
DTSTAMP:20260423T015939
CREATED:20210802T175020Z
LAST-MODIFIED:20210802T175020Z
UID:2668-1629194400-1629203400@www.wedialogue.com
SUMMARY:August Community Cafe
DESCRIPTION:This online Community Cafe is part of an ongoing series we host every month with and for the World Cafe community and for the Central Garden of participatory practices.  \nThe monthly online Community Cafes offer us an opportunity to get to know one another\, learn from our diversity\, and weave the web of our international community. They give us a time to lean in and ask what we need to meet the challenges and celebrations before us\, individually and together; a time to listen to others and to speak our truth. A time to remember we are in this together. \nTuesday\, August 17th\n10 am – 12.30 pm San Francisco | 1 – 3.30 pm New York |\n2 – 4.30 pm Rio de Janeiro | 7 – 9.30 pm Brussels \nONLINE \nFee: Sliding Scale $0 – $20\nLet us know if the cost is a challenge. These Community Cafes are for everyone.\n(Always free for Community Table subscribers: please use the code that you’ll find in the Community Table calendar)  \nMore Information and Registration
URL:https://www.wedialogue.com/event/august-community-cafe-2/
LOCATION:ONLINE
CATEGORIES:Community World Cafe
ATTACH;FMTTYPE=image/jpeg:https://www.wedialogue.com/wp-content/uploads/community-cafe.jpg
ORGANIZER;CN="The World Cafe Community Foundation":MAILTO:amy@theworldcafe.com
END:VEVENT
END:VCALENDAR