BEGIN:VCALENDAR
VERSION:2.0
PRODID:-//weDialogue - ECPv6.15.20//NONSGML v1.0//EN
CALSCALE:GREGORIAN
METHOD:PUBLISH
X-ORIGINAL-URL:https://www.wedialogue.com
X-WR-CALDESC:Events for weDialogue
REFRESH-INTERVAL;VALUE=DURATION:PT1H
X-Robots-Tag:noindex
X-PUBLISHED-TTL:PT1H
BEGIN:VTIMEZONE
TZID:America/Los_Angeles
BEGIN:DAYLIGHT
TZOFFSETFROM:-0800
TZOFFSETTO:-0700
TZNAME:PDT
DTSTART:20200308T100000
END:DAYLIGHT
BEGIN:STANDARD
TZOFFSETFROM:-0700
TZOFFSETTO:-0800
TZNAME:PST
DTSTART:20201101T090000
END:STANDARD
BEGIN:DAYLIGHT
TZOFFSETFROM:-0800
TZOFFSETTO:-0700
TZNAME:PDT
DTSTART:20210314T100000
END:DAYLIGHT
BEGIN:STANDARD
TZOFFSETFROM:-0700
TZOFFSETTO:-0800
TZNAME:PST
DTSTART:20211107T090000
END:STANDARD
BEGIN:DAYLIGHT
TZOFFSETFROM:-0800
TZOFFSETTO:-0700
TZNAME:PDT
DTSTART:20220313T100000
END:DAYLIGHT
BEGIN:STANDARD
TZOFFSETFROM:-0700
TZOFFSETTO:-0800
TZNAME:PST
DTSTART:20221106T090000
END:STANDARD
END:VTIMEZONE
BEGIN:VTIMEZONE
TZID:America/Los_Angeles
BEGIN:DAYLIGHT
TZOFFSETFROM:-0800
TZOFFSETTO:-0700
TZNAME:PDT
DTSTART:20200308T100000
END:DAYLIGHT
BEGIN:STANDARD
TZOFFSETFROM:-0700
TZOFFSETTO:-0800
TZNAME:PST
DTSTART:20201101T090000
END:STANDARD
BEGIN:DAYLIGHT
TZOFFSETFROM:-0800
TZOFFSETTO:-0700
TZNAME:PDT
DTSTART:20210314T100000
END:DAYLIGHT
BEGIN:STANDARD
TZOFFSETFROM:-0700
TZOFFSETTO:-0800
TZNAME:PST
DTSTART:20211107T090000
END:STANDARD
BEGIN:DAYLIGHT
TZOFFSETFROM:-0800
TZOFFSETTO:-0700
TZNAME:PDT
DTSTART:20220313T100000
END:DAYLIGHT
BEGIN:STANDARD
TZOFFSETFROM:-0700
TZOFFSETTO:-0800
TZNAME:PST
DTSTART:20221106T090000
END:STANDARD
END:VTIMEZONE
BEGIN:VEVENT
DTSTART;TZID=America/Los_Angeles:20211014T100000
DTEND;TZID=America/Los_Angeles:20211014T120000
DTSTAMP:20260422T200440
CREATED:20210802T161242Z
LAST-MODIFIED:20210802T161242Z
UID:2662-1634205600-1634212800@www.wedialogue.com
SUMMARY:Bioneers October Community Conversation
DESCRIPTION:Each month\, World Cafe hosts Amy Lenzo and David Shaw offer a Community Conversation for the world-renowned Bioneers community. \nEach conversation is stimulated by a brief ‘keynote’ or ‘conversation starter’ from a thought leader/luminary\, guided by a skilled team\, and captured by a creative ’synthesis’ from a talented spoken word or musical artist. These community conversations offer a place to connect with others\, as well as engage with and explore ideas in creative ways.  \nJoin us to connect\, inspire\, and be inspired by the collaborative community of Bioneers. \nOctober’s Conversation Starter is Amisha Ghadiali\, speaking on “Embracing Intuition\, Embodiment & Grief for Navigating Through ‘Tween Times“.\nOur Spoken Word Harvester is Jason Bayani. \nOctober 14th\, 2021\n10am – 12noon Pacific Time\n1 – 3pm Eastern Time\n19:00 – 21:00 Central European Time \nONLINE \n$20 – $30\n(Special 20% Discount for the World Cafe Community – use the promo code: CC20) \nFOR MORE INFORMATION & REGISTRATION
URL:https://www.wedialogue.com/event/bioneers-october-community-conversation/
LOCATION:ONLINE
CATEGORIES:Bioneers Community Conversation
ATTACH;FMTTYPE=image/jpeg:https://www.wedialogue.com/wp-content/uploads/Bioneers-Logo-tm.jpeg
END:VEVENT
BEGIN:VEVENT
DTSTART;TZID=America/Los_Angeles:20210909T100000
DTEND;TZID=America/Los_Angeles:20210909T120000
DTSTAMP:20260422T200440
CREATED:20210802T161015Z
LAST-MODIFIED:20210802T161015Z
UID:2660-1631181600-1631188800@www.wedialogue.com
SUMMARY:Bioneers September Community Conversation
DESCRIPTION:Each month\, World Cafe hosts Amy Lenzo and David Shaw offer a Community Conversation for the world-renowned Bioneers community. \nEach conversation is stimulated by a brief ‘keynote’ or ‘conversation starter’ from a thought leader/luminary\, guided by a skilled team\, and captured by a creative ’synthesis’ from a talented spoken word or musical artist. These community conversations offer a place to connect with others\, as well as engage with and explore ideas in creative ways.  \nJoin us to connect\, inspire\, and be inspired by the collaborative community of Bioneers. \nAugust’s Conversation Starter is Jerry Tello\, speaking on “Grandmother’s Teachings: Moving from Trauma to Sacredness“.\nOur Spoken Word Harvester is Jason Bayani. \nSeptember 9th\, 2021\n10am – 12noon Pacific Time\n1 – 3pm Eastern Time\n19:00 – 21:00 Central European Time \nONLINE \n$20 – $30\n(Special 20% Discount for the World Cafe Community – use the passcode: CC20) \nFOR MORE INFORMATION & REGISTRATION
URL:https://www.wedialogue.com/event/bioneers-september-community-conversation/
LOCATION:ONLINE
CATEGORIES:Bioneers Community Conversation
ATTACH;FMTTYPE=image/jpeg:https://www.wedialogue.com/wp-content/uploads/Bioneers-Logo-tm.jpeg
END:VEVENT
BEGIN:VEVENT
DTSTART;TZID=America/Los_Angeles:20210812T100000
DTEND;TZID=America/Los_Angeles:20210812T120000
DTSTAMP:20260422T200440
CREATED:20210802T160739Z
LAST-MODIFIED:20210802T160739Z
UID:2657-1628762400-1628769600@www.wedialogue.com
SUMMARY:Bioneers August Community Conversation
DESCRIPTION:Each month\, World Cafe hosts Amy Lenzo and David Shaw offer a Community Conversation for the world-renowned Bioneers community. \nEach conversation is stimulated by a brief ‘keynote’ or ‘conversation starter’ from a thought leader/luminary\, guided by a skilled  team\, and captured by a creative ’synthesis’ from a talented spoken word or musical artist. These community conversations offer a place to connect with others\, as well as engage with and explore ideas in creative ways.  \nJoin us to connect\, inspire\, and be inspired by the collaborative community of Bioneers. \nAugust’s Conversation Starter is Karla McLaren\, speaking on “Cultivating Intentional Communities in Our Workplaces”.\nOur Spoken Word Harvester is Jahan Khalighi. \nAugust 12th\, 2021\n10am – 12noon Pacific Time\n1 – 3pm Eastern Time\n19:00 – 21:00 Central European Time \nONLINE \n$20 – $30\n(Special 20% Discount for the weDialogue Community – use the passcode: CC20) \nFOR MORE INFORMATION & REGISTRATION
URL:https://www.wedialogue.com/event/bioneers-august-community-conversation/
LOCATION:ONLINE
CATEGORIES:Bioneers Community Conversation
ATTACH;FMTTYPE=image/jpeg:https://www.wedialogue.com/wp-content/uploads/Bioneers-Logo-tm.jpeg
END:VEVENT
BEGIN:VEVENT
DTSTART;TZID=America/Los_Angeles:20210708T100000
DTEND;TZID=America/Los_Angeles:20210708T120000
DTSTAMP:20260422T200440
CREATED:20210616T023131Z
LAST-MODIFIED:20210616T023131Z
UID:2631-1625738400-1625745600@www.wedialogue.com
SUMMARY:July BIONEERS Community Conversation
DESCRIPTION:BIONEERS COMMUNITY CONVERSATION\nClimate\, Justice\, Indigenous Actions & Trauma:\nHealing One System for Thriving Life\nJuly 8th\, 2021\n10 am – 12 pm (Pacific Time) \nThese monthly real-time online Community Conversation conversations are sponsored by Bioneers\, the (r)evolutionary environmental/activist/youth/ organization dedicated to social transformation. \nHosted by Amy Lenzo of weDialogue and David Shaw of Santa Cruz Permaculture\, these monthly conversations continue a pattern we began by hosting a World Cafe tent at the onsite Bioneers conference for over a decade now and the real-time online conversations we premiered at Bioneer’s online conference last December. Each month of this new series leading up to the 2nd online Bioneers Conference this Fall will feature a special guest “conversation starter” who will focus on a particular topic that we’ll use to guide the conversation. After community engagement in small groups followed by a whole-group harvest\, the Community Conversation will be captured in creative verse by a talented spoken word artist. \nThis month our conversation starter will be Eriel Deranger\, climate justice leader and executive director of Indigenous Climate Action\, and our spoken word harvester will be the amazing Jahan Khalighi. \nREGISTRATION &  MORE INFORMATION\n(weDialogue Community – Use this code for 20% off: CC20)
URL:https://www.wedialogue.com/event/july-bioneers-community-conversation/
LOCATION:ONLINE
CATEGORIES:Bioneers Community Conversation
ATTACH;FMTTYPE=image/jpeg:https://www.wedialogue.com/wp-content/uploads/Bioneers-Logo-tm.jpeg
END:VEVENT
BEGIN:VEVENT
DTSTART;TZID=America/Los_Angeles:20210610T100000
DTEND;TZID=America/Los_Angeles:20210610T233000
DTSTAMP:20260422T200440
CREATED:20210605T200412Z
LAST-MODIFIED:20210605T200412Z
UID:2605-1623319200-1623367800@www.wedialogue.com
SUMMARY:June BIONEERS Community Conversation
DESCRIPTION:BIONEERS COMMUNITY CONVERSATION\nWe Wish You Water:\nBlue Mind – Reconnecting People with Water for Life\nJune 10th\, 20201\n10 – 11:45 am (Pacific Time) \nThese monthly real-time online Community Conversation conversations are sponsored by Bioneers\, the (r)evolutionary environmental/activist/youth/ organization dedicated to social transformation. \nHosted by Amy Lenzo of weDialogue and David Shaw of Santa Cruz Permaculture\, these monthly conversations continue a pattern we began by hosting a World Cafe tent at the onsite Bioneers conference for over a decade now and the real-time online conversations we premiered at Bioneer’s online conference last December. Each month of this new series leading up to the 2nd online Bioneers Conference this Fall will feature a special guest “conversation starter” who will focus on a particular topic that we’ll use to guide the conversation. After community engagement in small groups followed by a whole-group harvest\, the Community Conversation will be captured in creative verse by a talented spoken word artist. \nThis month our conversation starter will be Wallace “J” Nichols\, speaking on Water and what he calls Blue Mind. Join us and fall in love with water all over agan. Our spoken word harvester will be the amazing Jahan Khalighi. \nREGISTRATION &  MORE INFORMATION\n(weDialogue Community – Use this code for 20% off: CC20)
URL:https://www.wedialogue.com/event/june-bioneers-community-conversation/
LOCATION:ONLINE
CATEGORIES:Bioneers Community Conversation
ATTACH;FMTTYPE=image/jpeg:https://www.wedialogue.com/wp-content/uploads/water.jpeg
END:VEVENT
END:VCALENDAR