BEGIN:VCALENDAR
VERSION:2.0
PRODID:-//weDialogue - ECPv6.15.20//NONSGML v1.0//EN
CALSCALE:GREGORIAN
METHOD:PUBLISH
X-ORIGINAL-URL:https://www.wedialogue.com
X-WR-CALDESC:Events for weDialogue
REFRESH-INTERVAL;VALUE=DURATION:PT1H
X-Robots-Tag:noindex
X-PUBLISHED-TTL:PT1H
BEGIN:VTIMEZONE
TZID:America/Los_Angeles
BEGIN:DAYLIGHT
TZOFFSETFROM:-0800
TZOFFSETTO:-0700
TZNAME:PDT
DTSTART:20240310T100000
END:DAYLIGHT
BEGIN:STANDARD
TZOFFSETFROM:-0700
TZOFFSETTO:-0800
TZNAME:PST
DTSTART:20241103T090000
END:STANDARD
BEGIN:DAYLIGHT
TZOFFSETFROM:-0800
TZOFFSETTO:-0700
TZNAME:PDT
DTSTART:20250309T100000
END:DAYLIGHT
BEGIN:STANDARD
TZOFFSETFROM:-0700
TZOFFSETTO:-0800
TZNAME:PST
DTSTART:20251102T090000
END:STANDARD
BEGIN:DAYLIGHT
TZOFFSETFROM:-0800
TZOFFSETTO:-0700
TZNAME:PDT
DTSTART:20260308T100000
END:DAYLIGHT
BEGIN:STANDARD
TZOFFSETFROM:-0700
TZOFFSETTO:-0800
TZNAME:PST
DTSTART:20261101T090000
END:STANDARD
END:VTIMEZONE
BEGIN:VEVENT
DTSTART;TZID=America/Los_Angeles:20250909T100000
DTEND;TZID=America/Los_Angeles:20250909T113000
DTSTAMP:20260422T195736
CREATED:20250707T205448Z
LAST-MODIFIED:20250707T205448Z
UID:2896-1757412000-1757417400@www.wedialogue.com
SUMMARY:Bioneers Book Club
DESCRIPTION:Bioneers Book Club\nIs A River Alive?\nSeptember 2nd & 9th\, 2025\n10:00 – 11:30 am Pacific Time\nREGISTER NOW\nAmy has been working with Bioneers for several years now\, hosting community conversations\, and starting last year she has been hosting a few interactive Book Clubs a year with them – two or three sessions with at least one given over to small group conversation about the book\, and one engaging with the author. The books are always wonderful explorations of nature-based topics. In this Book Club\, the book we’re focused on is Is A River Alive?\, by Rob MacFarlane. Here’s bit more about it: \nBlending immersive travel writing with deep cultural inquiry\, Is a River Alive? traces three powerful stories of rivers at the heart of legal and planetary transformation. In addition to the book club discussion\, join us for an exclusive author session with Robert Macfarlane\, one of the most celebrated nature writers of our time\, as he shares personal insights into the making of the book\, the rivers and people who shaped it\, and what it means to write at the confluence of ecology\, culture\, and imagination.    \n 
URL:https://www.wedialogue.com/event/bioneers-book-club-2025-09-09/
LOCATION:ONLINE
CATEGORIES:Bioneers Book Club
ATTACH;FMTTYPE=image/jpeg:https://www.wedialogue.com/wp-content/uploads/RiverAlive-1280.jpg
END:VEVENT
BEGIN:VEVENT
DTSTART;TZID=America/Los_Angeles:20250902T100000
DTEND;TZID=America/Los_Angeles:20250902T113000
DTSTAMP:20260422T195736
CREATED:20250707T205448Z
LAST-MODIFIED:20250707T205448Z
UID:2894-1756807200-1756812600@www.wedialogue.com
SUMMARY:Bioneers Book Club
DESCRIPTION:Bioneers Book Club\nIs A River Alive?\nSeptember 2nd & 9th\, 2025\n10:00 – 11:30 am Pacific Time\nREGISTER NOW\nAmy has been working with Bioneers for several years now\, hosting community conversations\, and starting last year she has been hosting a few interactive Book Clubs a year with them – two or three sessions with at least one given over to small group conversation about the book\, and one engaging with the author. The books are always wonderful explorations of nature-based topics. In this Book Club\, the book we’re focused on is Is A River Alive?\, by Rob MacFarlane. Here’s bit more about it: \nBlending immersive travel writing with deep cultural inquiry\, Is a River Alive? traces three powerful stories of rivers at the heart of legal and planetary transformation. In addition to the book club discussion\, join us for an exclusive author session with Robert Macfarlane\, one of the most celebrated nature writers of our time\, as he shares personal insights into the making of the book\, the rivers and people who shaped it\, and what it means to write at the confluence of ecology\, culture\, and imagination.    \n 
URL:https://www.wedialogue.com/event/bioneers-book-club/
LOCATION:ONLINE
CATEGORIES:Bioneers Book Club
ATTACH;FMTTYPE=image/jpeg:https://www.wedialogue.com/wp-content/uploads/RiverAlive-1280.jpg
END:VEVENT
END:VCALENDAR